BEGIN:VCALENDAR
VERSION:2.0
PRODID:-//Cottage Arts &amp; Eats - ECPv6.8.3//NONSGML v1.0//EN
CALSCALE:GREGORIAN
METHOD:PUBLISH
X-ORIGINAL-URL:https://cottageartsandeats.com
X-WR-CALDESC:Events for Cottage Arts &amp; Eats
REFRESH-INTERVAL;VALUE=DURATION:PT1H
X-Robots-Tag:noindex
X-PUBLISHED-TTL:PT1H
BEGIN:VTIMEZONE
TZID:America/Detroit
BEGIN:DAYLIGHT
TZOFFSETFROM:-0500
TZOFFSETTO:-0400
TZNAME:EDT
DTSTART:20250309T070000
END:DAYLIGHT
BEGIN:STANDARD
TZOFFSETFROM:-0400
TZOFFSETTO:-0500
TZNAME:EST
DTSTART:20251102T060000
END:STANDARD
END:VTIMEZONE
BEGIN:VEVENT
DTSTART;TZID=America/Detroit:20251101T160000
DTEND;TZID=America/Detroit:20251101T190000
DTSTAMP:20260425T224933
CREATED:20251011T211936Z
LAST-MODIFIED:20251031T163251Z
UID:10000394-1762012800-1762023600@cottageartsandeats.com
SUMMARY:Chunky Blankets
DESCRIPTION:Get cozy and crafty in the ultimate night out! In this fun\, hands-on class\, you’ll learn how to make your very own chunky knit blanket—no needles\, no experience necessary! Using soft\, oversized yarn and simple arm-knitting techniques\, you’ll create a gorgeous\, snuggle-worthy blanket that’s perfect for chilly nights\, thoughtful gifts\, or stylish home décor. \nTo make it even better? You can bring in your own cocktails or beverages as you stitch because we are a part of Allegan’s social district! Bring your friends\, grab a drink\, and enjoy an evening of laughter\, creativity\, and cozy vibes. \nCome for the fun\, stay for the comfort—by the end of the night\, you’ll be wrapped up in something fabulous (that you made yourself!). Cheers to crafting!
URL:https://cottageartsandeats.com/event/chunky-blankets/
LOCATION:Cottage Arts & Eats\, 245 Hubbard St\, Allegan\, MI\, 49010\, United States
CATEGORIES:Events 2025
ATTACH;FMTTYPE=image/png:https://cottageartsandeats.com/wp-content/uploads/2025/09/Untitled-design.png
ORGANIZER;CN="Lori Hibma":MAILTO:cottageartsandeats@gmail.com
END:VEVENT
END:VCALENDAR