BEGIN:VCALENDAR
VERSION:2.0
PRODID:-//Cottage Arts &amp; Eats - ECPv6.8.3//NONSGML v1.0//EN
CALSCALE:GREGORIAN
METHOD:PUBLISH
X-WR-CALNAME:Cottage Arts &amp; Eats
X-ORIGINAL-URL:https://cottageartsandeats.com
X-WR-CALDESC:Events for Cottage Arts &amp; Eats
REFRESH-INTERVAL;VALUE=DURATION:PT1H
X-Robots-Tag:noindex
X-PUBLISHED-TTL:PT1H
BEGIN:VTIMEZONE
TZID:UTC
BEGIN:STANDARD
TZOFFSETFROM:+0000
TZOFFSETTO:+0000
TZNAME:UTC
DTSTART:20250101T000000
END:STANDARD
TZID:America/Detroit
BEGIN:DAYLIGHT
TZOFFSETFROM:-0500
TZOFFSETTO:-0400
TZNAME:EDT
DTSTART:20250309T070000
END:DAYLIGHT
BEGIN:STANDARD
TZOFFSETFROM:-0400
TZOFFSETTO:-0500
TZNAME:EST
DTSTART:20251102T060000
END:STANDARD
END:VTIMEZONE
BEGIN:VEVENT
DTSTART;VALUE=DATE:20251128
DTEND;VALUE=DATE:20251130
DTSTAMP:20260425T211723
CREATED:20251014T175155Z
LAST-MODIFIED:20251016T003525Z
UID:10000401-1764288000-1764460799@cottageartsandeats.com
SUMMARY:Christmas Open House Shopping Extravaganza
DESCRIPTION:Get into the holiday spirit at our Christmas Open House Shopping Extravaganza! \nJoin us for a festive day of shopping\, special deals\, and holiday treats. Enjoy exclusive sales\, including BOGO on select items\, and explore our collection of handmade gifts\, crafts\, and holiday fun. \nAs a special treat\, we’ll be serving homemade treats! Whether you’re shopping for unique gifts or just soaking in the holiday cheer\, this is an event you won’t want to miss. See you there!
URL:https://cottageartsandeats.com/event/open-house-all-day-shopping-extravaganza-2/
LOCATION:Cottage Arts & Eats\, 245 Hubbard St\, Allegan\, MI\, 49010\, United States
CATEGORIES:Events 2025
ORGANIZER;CN="Lori Hibma":MAILTO:cottageartsandeats@gmail.com
END:VEVENT
BEGIN:VEVENT
DTSTART;TZID=America/Detroit:20251129T160000
DTEND;TZID=America/Detroit:20251129T180000
DTSTAMP:20260425T211723
CREATED:20251014T175359Z
LAST-MODIFIED:20251130T182822Z
UID:10000402-1764432000-1764439200@cottageartsandeats.com
SUMMARY:Fused Glass Class\, Tea-lights and Ornaments
DESCRIPTION:Do you love our candle scents? Combine a 4 oz candle with fused glass and what do you get? A beautiful fall or Christmas decoration. Celebrate the beauty of season with a hands-on fused glass art class! \nOr maybe you want to create some special gifts like one of a kind Christmas Ornaments? \nIn this fun and creative workshop\, you’ll design your own colorful glass candle holder. Using a variety of glass pieces\, textures\, and colors\, you’ll learn how to layer and arrange your design before it’s kiln-fired into a stunning keepsake. \nWhether you’re a beginner or an experienced maker\, you’ll leave with a beautiful glass leaf that captures the magic of the season—perfect for display or gifting. Come play with color\, sparkle\, and fall inspiration! \nThis class includes a 4 oz candle of your choice if you choose the tea-lights and three ornaments if you choose to do ornaments.
URL:https://cottageartsandeats.com/event/fused-glass-class-tea-lights-and-ornaments-2/
LOCATION:Cottage Arts & Eats\, 245 Hubbard St\, Allegan\, MI\, 49010\, United States
CATEGORIES:Events 2025
END:VEVENT
END:VCALENDAR