BEGIN:VCALENDAR
VERSION:2.0
PRODID:-//Cottage Arts &amp; Eats - ECPv6.8.3//NONSGML v1.0//EN
CALSCALE:GREGORIAN
METHOD:PUBLISH
X-ORIGINAL-URL:https://cottageartsandeats.com
X-WR-CALDESC:Events for Cottage Arts &amp; Eats
REFRESH-INTERVAL;VALUE=DURATION:PT1H
X-Robots-Tag:noindex
X-PUBLISHED-TTL:PT1H
BEGIN:VTIMEZONE
TZID:America/Detroit
BEGIN:DAYLIGHT
TZOFFSETFROM:-0500
TZOFFSETTO:-0400
TZNAME:EDT
DTSTART:20250309T070000
END:DAYLIGHT
BEGIN:STANDARD
TZOFFSETFROM:-0400
TZOFFSETTO:-0500
TZNAME:EST
DTSTART:20251102T060000
END:STANDARD
END:VTIMEZONE
BEGIN:VEVENT
DTSTART;TZID=America/Detroit:20251206T120000
DTEND;TZID=America/Detroit:20251206T143000
DTSTAMP:20260425T194035
CREATED:20251116T204013Z
LAST-MODIFIED:20251116T204022Z
UID:10000404-1765022400-1765031400@cottageartsandeats.com
SUMMARY:Kathy Smith Private Party
DESCRIPTION:Private Party
URL:https://cottageartsandeats.com/event/kathy-smith-private-party/
LOCATION:MI
END:VEVENT
END:VCALENDAR