BEGIN:VCALENDAR
VERSION:2.0
PRODID:-//Cottage Arts &amp; Eats - ECPv6.8.3//NONSGML v1.0//EN
CALSCALE:GREGORIAN
METHOD:PUBLISH
X-WR-CALNAME:Cottage Arts &amp; Eats
X-ORIGINAL-URL:https://cottageartsandeats.com
X-WR-CALDESC:Events for Cottage Arts &amp; Eats
REFRESH-INTERVAL;VALUE=DURATION:PT1H
X-Robots-Tag:noindex
X-PUBLISHED-TTL:PT1H
BEGIN:VTIMEZONE
TZID:UTC
BEGIN:STANDARD
TZOFFSETFROM:+0000
TZOFFSETTO:+0000
TZNAME:UTC
DTSTART:20240101T000000
END:STANDARD
END:VTIMEZONE
BEGIN:VEVENT
DTSTART;TZID=UTC:20241108T180000
DTEND;TZID=UTC:20241108T200000
DTSTAMP:20260422T110515
CREATED:20240906T200417Z
LAST-MODIFIED:20241015T151936Z
UID:10000046-1731088800-1731096000@cottageartsandeats.com
SUMMARY:Christmas Wreath Class - Session 2 of 2
DESCRIPTION:Get into the holiday spirit by joining our Beautiful Large Christmas Wreath Workshop\, a two-class event happening on November 1st and November 8th! Over these sessions\, you’ll design and craft a stunning\, oversized wreath perfect for adding festive charm to your home. Whether you finish in one class or enjoy both sessions\, you’ll have plenty of time to create a wreath full of seasonal greenery\, ribbons\, ornaments\, lights and more. \nAll supplies\, including a wreath bag for storage\, are included in the cost of $135. This is the perfect opportunity to kick off your holiday season with a fun and creative activity—plus\, you’ll leave with a gorgeous wreath to showcase! Spaces are limited\, so reserve your spot for a merry\, hands-on experience!
URL:https://cottageartsandeats.com/event/christmas-wreath-making-class-2-of-2-workshop/
CATEGORIES:Events 2024
ATTACH;FMTTYPE=image/png:https://cottageartsandeats.com/wp-content/uploads/2024/09/Screenshot-2024-10-11-at-3.46.26 PM-e1728676078504.png
ORGANIZER;CN="Lori Hibma":MAILTO:cottageartsandeats@gmail.com
END:VEVENT
BEGIN:VEVENT
DTSTART;TZID=UTC:20241106T130000
DTEND;TZID=UTC:20241106T173000
DTSTAMP:20260422T110515
CREATED:20240906T200313Z
LAST-MODIFIED:20241005T131607Z
UID:10000045-1730898000-1730914200@cottageartsandeats.com
SUMMARY:Open Studio Workshop
DESCRIPTION:Unleash your creativity with our Open Art Studio Time! For just $12.50\, you’ll have 3 full hours to explore your artistic side in our inspiring studio. Whether you want to paint\, draw\, craft\, or try something new\, our studio is stocked with supplies to help bring your ideas to life. Perfect for beginners and seasoned artists alike\, this relaxed\, come-as-you-are session lets you work at your own pace. Get creative\, unwind\, and enjoy the freedom of expressing yourself in a welcoming space!
URL:https://cottageartsandeats.com/event/open-studio-workshop-7/
CATEGORIES:Events 2024
ATTACH;FMTTYPE=image/webp:https://cottageartsandeats.com/wp-content/uploads/2024/09/i-4.webp
ORGANIZER;CN="Lori Hibma":MAILTO:cottageartsandeats@gmail.com
END:VEVENT
BEGIN:VEVENT
DTSTART;TZID=UTC:20241101T180000
DTEND;TZID=UTC:20241101T200000
DTSTAMP:20260422T110515
CREATED:20240906T041034Z
LAST-MODIFIED:20241015T151932Z
UID:10000044-1730484000-1730491200@cottageartsandeats.com
SUMMARY:Christmas Wreath Class 1 of 2 Sessions
DESCRIPTION:Get into the holiday spirit by joining our Beautiful Large Christmas Wreath Workshop\, a two-class event happening on November 1st and November 8th! Over these sessions\, you’ll design and craft a stunning\, oversized wreath perfect for adding festive charm to your home. Whether you finish in one class or enjoy both sessions\, you’ll have plenty of time to create a wreath full of seasonal greenery\, ribbons\, ornaments\, and more. \nAll supplies\, including a wreath bag for storage\, are included in the cost of $135. This is the perfect opportunity to kick off your holiday season with a fun and creative activity—plus\, you’ll leave with a gorgeous wreath to showcase! Spaces are limited\, so reserve your spot for a merry\, hands-on experience!
URL:https://cottageartsandeats.com/event/christmas-wreath-class-1-of-2/
LOCATION:Cottage Arts & Eats\, 245 Hubbard St\, Allegan\, MI\, 49010\, United States
CATEGORIES:Events 2024
ATTACH;FMTTYPE=image/png:https://cottageartsandeats.com/wp-content/uploads/2024/09/Screenshot-2024-10-11-at-3.46.26 PM-e1728676078504.png
ORGANIZER;CN="Lori Hibma":MAILTO:cottageartsandeats@gmail.com
END:VEVENT
BEGIN:VEVENT
DTSTART;TZID=UTC:20241030T130000
DTEND;TZID=UTC:20241030T173000
DTSTAMP:20260422T110515
CREATED:20240906T040935Z
LAST-MODIFIED:20241015T171400Z
UID:10000043-1730293200-1730309400@cottageartsandeats.com
SUMMARY:Open Studio  Workshop
DESCRIPTION:Unleash your creativity with our Open Art Studio Time! For just $12.50\, you’ll have 3 full hours to explore your artistic side in our inspiring studio. Whether you want to paint\, draw\, craft\, or try something new\, our studio is stocked with supplies to help bring your ideas to life. Perfect for beginners and seasoned artists alike\, this relaxed\, come-as-you-are session lets you work at your own pace. Get creative\, unwind\, and enjoy the freedom of expressing yourself in a welcoming space!
URL:https://cottageartsandeats.com/event/open-studio-workshop-6/
LOCATION:Cottage Arts & Eats\, 245 Hubbard St\, Allegan\, MI\, 49010\, United States
CATEGORIES:Events 2024
ATTACH;FMTTYPE=image/webp:https://cottageartsandeats.com/wp-content/uploads/2024/09/i-4.webp
ORGANIZER;CN="Lori Hibma":MAILTO:cottageartsandeats@gmail.com
END:VEVENT
BEGIN:VEVENT
DTSTART;TZID=UTC:20241029T180000
DTEND;TZID=UTC:20241029T203000
DTSTAMP:20260422T110515
CREATED:20240906T040856Z
LAST-MODIFIED:20241028T230424Z
UID:10000042-1730224800-1730233800@cottageartsandeats.com
SUMMARY:Zentangle Frames Workshop
DESCRIPTION:Get into the holiday spirit with our Zentangle Ornament-Making Workshop! In this class\, you’ll create beautiful Zentangle designs and frame them to use as unique Christmas ornaments. Zentangle is a relaxing\, meditative art form that uses structured patterns to create intricate\, mesmerizing designs. You’ll learn different techniques to craft your own personalized ornaments that will add a touch of handmade charm to your holiday décor. All supplies are included\, and you’ll leave with stunning framed creation ready to hang on your tree or give as heartfelt gifts!
URL:https://cottageartsandeats.com/event/zentangle-frames-workshop/
CATEGORIES:Events 2024
ATTACH;FMTTYPE=image/webp:https://cottageartsandeats.com/wp-content/uploads/2024/09/DALL·E-2024-10-11-15.33.53-A-Christmas-themed-workshop-where-participants-create-Zentangle-designs-that-are-framed-to-use-as-ornaments.-The-scene-features-intricately-drawn-Zent-e1728675345587.webp
ORGANIZER;CN="Lori Hibma":MAILTO:cottageartsandeats@gmail.com
END:VEVENT
BEGIN:VEVENT
DTSTART;TZID=UTC:20241026T140000
DTEND;TZID=UTC:20241026T153000
DTSTAMP:20260422T110515
CREATED:20240906T040759Z
LAST-MODIFIED:20241015T150920Z
UID:10000041-1729951200-1729956600@cottageartsandeats.com
SUMMARY:Mini Makers Workshop Ages 5-10 - Bracelet Making
DESCRIPTION:Join us for a Children’s Bracelet-Making Workshop where young crafters can unleash their creativity! Kids will have a blast designing their own colorful bracelets using a variety of beads\, strings\, and charms. With endless possibilities for patterns and styles\, each child will create a unique\, personalized piece of jewelry to wear or share. This hands-on workshop is perfect for sparking imagination and developing fine motor skills—all while having fun! All supplies are provided\, and kids get to take home their beautiful creations.
URL:https://cottageartsandeats.com/event/mini-makers-workshop-ages-5-10-bracelet-making/
CATEGORIES:Events 2024
ATTACH;FMTTYPE=image/webp:https://cottageartsandeats.com/wp-content/uploads/2024/09/DALL·E-2024-10-11-15.38.35-A-lively-scene-of-kids-making-bracelets-at-a-crafting-workshop.-The-children-are-seated-around-a-table-filled-with-colorful-beads-strings-and-charms-e1728675586864.webp
ORGANIZER;CN="Lori Hibma":MAILTO:cottageartsandeats@gmail.com
END:VEVENT
BEGIN:VEVENT
DTSTART;TZID=UTC:20241025T173000
DTEND;TZID=UTC:20241025T203000
DTSTAMP:20260422T110515
CREATED:20240917T004826Z
LAST-MODIFIED:20241015T150452Z
UID:10000066-1729877400-1729888200@cottageartsandeats.com
SUMMARY:Candle Making Workshop
DESCRIPTION:Join us for a Christmas Candle-Making Workshop where you’ll create festive candles in tins! Choose from a selection of holiday-inspired scents to craft your own unique\, seasonal candles. You’ll learn the art of melting\, pouring\, and setting candles\, while enjoying a cozy\, creative atmosphere. Perfect for all crafters\, you’ll leave with beautifully scented candles ready to light up your holidays or give as gifts. All materials\, including Christmas fragrances\, are provided—just bring your holiday spirit!
URL:https://cottageartsandeats.com/event/candle-making-workshop/
CATEGORIES:Events 2024
ATTACH;FMTTYPE=image/webp:https://cottageartsandeats.com/wp-content/uploads/2024/09/DALL·E-2024-10-11-15.25.32-A-scene-of-a-candle-making-workshop-with-small-candles-being-made-in-round-metal-tins.-The-candles-are-in-various-stages-of-production-with-wax-bein-e1753902179972.webp
ORGANIZER;CN="Lori Hibma":MAILTO:cottageartsandeats@gmail.com
END:VEVENT
BEGIN:VEVENT
DTSTART;TZID=UTC:20241023T130000
DTEND;TZID=UTC:20241023T173000
DTSTAMP:20260422T110515
CREATED:20240906T040648Z
LAST-MODIFIED:20240925T192147Z
UID:10000040-1729688400-1729704600@cottageartsandeats.com
SUMMARY:Open Studio Workshop
DESCRIPTION:Unleash your creativity with our Open Art Studio Time! For just $12.50\, you’ll have 3 full hours to explore your artistic side in our inspiring studio. Whether you want to paint\, draw\, craft\, or try something new\, our studio is stocked with supplies to help bring your ideas to life. Perfect for beginners and seasoned artists alike\, this relaxed\, come-as-you-are session lets you work at your own pace. Get creative\, unwind\, and enjoy the freedom of expressing yourself in a welcoming space!
URL:https://cottageartsandeats.com/event/open-studio-workshop-5/
LOCATION:Cottage Arts & Eats\, 245 Hubbard St\, Allegan\, MI\, 49010\, United States
CATEGORIES:Events 2024
ATTACH;FMTTYPE=image/webp:https://cottageartsandeats.com/wp-content/uploads/2024/09/i-4.webp
ORGANIZER;CN="Lori Hibma":MAILTO:cottageartsandeats@gmail.com
END:VEVENT
BEGIN:VEVENT
DTSTART;TZID=UTC:20241019T110000
DTEND;TZID=UTC:20241019T120000
DTSTAMP:20260422T110515
CREATED:20240906T040547Z
LAST-MODIFIED:20241015T145535Z
UID:10000039-1729335600-1729339200@cottageartsandeats.com
SUMMARY:Tiny Creators Ages 2-4 - Make a Dinosaur
DESCRIPTION:Join us for a fun and creative Dinosaur Art Class designed just for kids under 5! Little artists will cut\, color\, and glue to bring their paper dinosaurs to life using crayons\, markers\, scissors\, and glue. It’s the perfect hands-on project to let their imaginations roar! All supplies are included\, so get ready for a dino-tastic time full of color and creativity!
URL:https://cottageartsandeats.com/event/tiny-creators-ages-2-4-make-a-dinosaur/
CATEGORIES:Events 2024
ATTACH;FMTTYPE=image/webp:https://cottageartsandeats.com/wp-content/uploads/2024/09/DALL·E-2024-10-11-14.01.38-A-cute-dinosaur-hatching-out-of-an-egg-made-from-colorful-polymer-clay.-The-egg-is-cracked-open-and-a-small-adorable-baby-dinosaur-is-poking-its-hea-e1728669770170.webp
ORGANIZER;CN="Lori Hibma":MAILTO:cottageartsandeats@gmail.com
END:VEVENT
BEGIN:VEVENT
DTSTART;TZID=UTC:20241018T173000
DTEND;TZID=UTC:20241018T200000
DTSTAMP:20260422T110515
CREATED:20240906T040452Z
LAST-MODIFIED:20241011T160630Z
UID:10000038-1729272600-1729281600@cottageartsandeats.com
SUMMARY:Trick or Treat Buckets
DESCRIPTION:Join us for a Trick or Treat Bucket Painting Class designed for ages 14+! In this fun and festive workshop\, you’ll create your own unique candy holder to hand out treats to your trick-or-treaters. Using acrylic paint and all provided supplies\, you’ll turn an ordinary can into a Halloween masterpiece\, perfect for adding a spooky touch to your candy-giving. Come unleash your creativity and get ready to make this Halloween extra special!
URL:https://cottageartsandeats.com/event/treat-bowls/
CATEGORIES:Events 2024
ATTACH;FMTTYPE=image/png:https://cottageartsandeats.com/wp-content/uploads/2024/09/Trick-or-Treat-Bucket-1.png
ORGANIZER;CN="Lori Hibma":MAILTO:cottageartsandeats@gmail.com
END:VEVENT
BEGIN:VEVENT
DTSTART;TZID=UTC:20241016T130000
DTEND;TZID=UTC:20241016T173000
DTSTAMP:20260422T110515
CREATED:20240906T040410Z
LAST-MODIFIED:20241005T130942Z
UID:10000037-1729083600-1729099800@cottageartsandeats.com
SUMMARY:Open Studio
DESCRIPTION:Unleash your creativity with our Open Art Studio Time! For just $12.50\, you’ll have 3 full hours to explore your artistic side in our inspiring studio. Whether you want to paint\, draw\, craft\, or try something new\, our studio is stocked with supplies to help bring your ideas to life. Perfect for beginners and seasoned artists alike\, this relaxed\, come-as-you-are session lets you work at your own pace. Get creative\, unwind\, and enjoy the freedom of expressing yourself in a welcoming space!
URL:https://cottageartsandeats.com/event/open-studio-2/
CATEGORIES:Events 2024
ATTACH;FMTTYPE=image/webp:https://cottageartsandeats.com/wp-content/uploads/2024/09/i-4.webp
ORGANIZER;CN="Lori Hibma":MAILTO:cottageartsandeats@gmail.com
END:VEVENT
BEGIN:VEVENT
DTSTART;TZID=UTC:20241015T180000
DTEND;TZID=UTC:20241015T203000
DTSTAMP:20260422T110515
CREATED:20240906T040306Z
LAST-MODIFIED:20241015T144832Z
UID:10000036-1729015200-1729024200@cottageartsandeats.com
SUMMARY:Zentangle Fall Fest Workshop
DESCRIPTION:Embrace the beauty of the season in our Fall Zentangle Class! Learn the relaxing art of Zentangle as we create intricate\, autumn-themed designs inspired by falling leaves\, pumpkins\, and harvest motifs. Perfect for beginners and experienced artists alike\, this class will guide you through the meditative process of drawing detailed patterns\, while enjoying a cozy\, creative atmosphere. All supplies are included\, so just bring your imagination!
URL:https://cottageartsandeats.com/event/zentangle-fall-fest-workshop/
CATEGORIES:Events 2024
ATTACH;FMTTYPE=image/png:https://cottageartsandeats.com/wp-content/uploads/2024/09/Fall-Zentangle.png
ORGANIZER;CN="Lori Hibma":MAILTO:cottageartsandeats@gmail.com
END:VEVENT
BEGIN:VEVENT
DTSTART;TZID=UTC:20241012T140000
DTEND;TZID=UTC:20241012T150000
DTSTAMP:20260422T110515
CREATED:20240906T040144Z
LAST-MODIFIED:20241011T162251Z
UID:10000035-1728741600-1728745200@cottageartsandeats.com
SUMMARY:Mini Makers - Ages 5-10 Diamond Painting - Private Party
DESCRIPTION:Looking for a fun and stress-free way to celebrate your child’s birthday? Book a Private Birthday Party with us\, and we’ll handle everything! From festive decorations\, plates\, and silverware to treat bags and exciting art projects\, we’ve got you covered. Your child and their friends will unleash their creativity while making a special project to take home as a keepsake! Sit back and relax while we take care of all the details\, ensuring a magical\, creative\, and unforgettable party for your little one. Book today for a birthday full of fun and memories!
URL:https://cottageartsandeats.com/event/mini-makers-ages-5-10-diamond/
CATEGORIES:Events 2024
ATTACH;FMTTYPE=image/png:https://cottageartsandeats.com/wp-content/uploads/2024/09/Untitled-design-1.png
ORGANIZER;CN="Lori Hibma":MAILTO:cottageartsandeats@gmail.com
END:VEVENT
BEGIN:VEVENT
DTSTART;TZID=UTC:20241009T173000
DTEND;TZID=UTC:20241009T200000
DTSTAMP:20260422T110515
CREATED:20240917T154850Z
LAST-MODIFIED:20241002T202958Z
UID:10000067-1728495000-1728504000@cottageartsandeats.com
SUMMARY:Fall Wreath and Centerpiece Workshop
DESCRIPTION:Get ready for fall with our festive Wreath or Centerpiece Workshop! Create a stunning grapevine wreath with a painted wood sign\, artificial florals\, twinkling lights\, and more. Join us for an evening of fun\, creativity\, and seasonal flair! All Supllies are provided. Registration is Required. Cost $50
URL:https://cottageartsandeats.com/event/wreath-workshop-2/
LOCATION:Cottage Arts & Eats\, 245 Hubbard St\, Allegan\, MI\, 49010\, United States
CATEGORIES:Events 2024
ATTACH;FMTTYPE=image/png:https://cottageartsandeats.com/wp-content/uploads/2024/09/Fall-Wreath.png
ORGANIZER;CN="Lori Hibma":MAILTO:cottageartsandeats@gmail.com
END:VEVENT
BEGIN:VEVENT
DTSTART;TZID=UTC:20241009T130000
DTEND;TZID=UTC:20241009T173000
DTSTAMP:20260422T110515
CREATED:20240906T035927Z
LAST-MODIFIED:20240925T190751Z
UID:10000033-1728478800-1728495000@cottageartsandeats.com
SUMMARY:Open Studio Workshop
DESCRIPTION:Unleash your creativity with our Open Art Studio Time! For just $12.50\, you’ll have 3 full hours to explore your artistic side in our inspiring studio. Whether you want to paint\, draw\, craft\, or try something new\, our studio is stocked with supplies to help bring your ideas to life. Perfect for beginners and seasoned artists alike\, this relaxed\, come-as-you-are session lets you work at your own pace. Get creative\, unwind\, and enjoy the freedom of expressing yourself in a welcoming space!
URL:https://cottageartsandeats.com/event/open-studio-workshop-4/
CATEGORIES:Events 2024
ATTACH;FMTTYPE=image/webp:https://cottageartsandeats.com/wp-content/uploads/2024/09/i-4.webp
ORGANIZER;CN="Lori Hibma":MAILTO:cottageartsandeats@gmail.com
END:VEVENT
BEGIN:VEVENT
DTSTART;TZID=UTC:20241005T110000
DTEND;TZID=UTC:20241005T120000
DTSTAMP:20260422T110515
CREATED:20240906T035728Z
LAST-MODIFIED:20240927T215658Z
UID:10000031-1728126000-1728129600@cottageartsandeats.com
SUMMARY:Tiny Creators Workshop Ages 2-4 - Paint Your Windchime
DESCRIPTION:Let’s have fun painting a leaf windchime! In this class\, little artists will use bright colors to paint wooden leaf shapes and create their very own windchime. We’ll provide everything they need\, including safe\, easy-to-hold paints and brushes. With simple instructions and lots of room for creativity\, your child will enjoy playing with colors while making something special to hang up at home. It’s a perfect way for them to explore their imagination\, practice hand-eye coordination\, and have fun with art!
URL:https://cottageartsandeats.com/event/tiny-creators-workshop-ages-2-4-paint-your/
CATEGORIES:Events 2024
ORGANIZER;CN="Lori Hibma":MAILTO:cottageartsandeats@gmail.com
END:VEVENT
BEGIN:VEVENT
DTSTART;TZID=UTC:20241005T090000
DTEND;TZID=UTC:20241005T140000
DTSTAMP:20260422T110515
CREATED:20240916T210055Z
LAST-MODIFIED:20241215T235036Z
UID:10000065-1728118800-1728136800@cottageartsandeats.com
SUMMARY:Oct 5th Craft Show
DESCRIPTION:
URL:https://cottageartsandeats.com/event/oct-5th-craft-show/
LOCATION:Craft show at Cultivate Church\, 4872 136th Avenue\, Hamilton\, Michigan\, MI\, 4872\, United States
CATEGORIES:Events 2024
ATTACH;FMTTYPE=image/png:https://cottageartsandeats.com/wp-content/uploads/2024/09/Come-and-See-Us-at-Cultivate-Church.png
ORGANIZER;CN="Lori Hibma":MAILTO:cottageartsandeats@gmail.com
END:VEVENT
BEGIN:VEVENT
DTSTART;TZID=UTC:20241004T173000
DTEND;TZID=UTC:20241004T203000
DTSTAMP:20260422T110515
CREATED:20241008T172511Z
LAST-MODIFIED:20241008T172511Z
UID:10000071-1728063000-1728073800@cottageartsandeats.com
SUMMARY:Learn to Macrame
DESCRIPTION:
URL:https://cottageartsandeats.com/event/learn-to-macrame/
LOCATION:Craft show at Cultivate Church\, 4872 136th Avenue\, Hamilton\, Michigan\, MI\, 4872\, United States
CATEGORIES:Events 2024
ATTACH;FMTTYPE=image/webp:https://cottageartsandeats.com/wp-content/uploads/2024/09/i-4.webp
ORGANIZER;CN="Lori Hibma":MAILTO:cottageartsandeats@gmail.com
END:VEVENT
BEGIN:VEVENT
DTSTART;TZID=UTC:20241002T130000
DTEND;TZID=UTC:20241002T173000
DTSTAMP:20260422T110515
CREATED:20240906T035415Z
LAST-MODIFIED:20240925T191239Z
UID:10000029-1727874000-1727890200@cottageartsandeats.com
SUMMARY:Open Studio Workshop
DESCRIPTION:Unleash your creativity with our Open Art Studio Time! For just $12.50\, you’ll have 3 full hours to explore your artistic side in our inspiring studio. Whether you want to paint\, draw\, craft\, or try something new\, our studio is stocked with supplies to help bring your ideas to life. Perfect for beginners and seasoned artists alike\, this relaxed\, come-as-you-are session lets you work at your own pace. Get creative\, unwind\, and enjoy the freedom of expressing yourself in a welcoming space!
URL:https://cottageartsandeats.com/event/open-studio-workshop-3/
LOCATION:Cottage Arts & Eats\, 245 Hubbard St\, Allegan\, MI\, 49010\, United States
CATEGORIES:Events 2024
ATTACH;FMTTYPE=image/webp:https://cottageartsandeats.com/wp-content/uploads/2024/09/i-4.webp
ORGANIZER;CN="Lori Hibma":MAILTO:cottageartsandeats@gmail.com
END:VEVENT
BEGIN:VEVENT
DTSTART;TZID=UTC:20241001T180000
DTEND;TZID=UTC:20241001T203000
DTSTAMP:20260422T110515
CREATED:20240906T035334Z
LAST-MODIFIED:20240927T143034Z
UID:10000028-1727805600-1727814600@cottageartsandeats.com
SUMMARY:Zentangle Class - Intro to Watercolor Tiles Workshop
DESCRIPTION:Explore the calming art of Zentangle Tiles with Watercolor in this relaxing and creative class! You’ll learn how to combine the meditative process of Zentangle with the vibrant beauty of watercolors to create stunning\, hand-drawn designs on small tiles. Perfect for beginners and experienced artists alike\, our instructor will guide you step by step through blending colors\, layering patterns\, and creating intricate designs that are both unique and therapeutic. By the end\, you’ll have a beautiful\, one-of-a-kind watercolor tile to take home. All supplies are included! Registration required.
URL:https://cottageartsandeats.com/event/zentangle-class-intro-to-watercolor-tiles-workshop/
LOCATION:Cottage Arts & Eats\, 245 Hubbard St\, Allegan\, MI\, 49010\, United States
CATEGORIES:Events 2024
ATTACH;FMTTYPE=image/png:https://cottageartsandeats.com/wp-content/uploads/2024/09/CAE-Zentangle-Watercolor.png
ORGANIZER;CN="Lori Hibma":MAILTO:cottageartsandeats@gmail.com
END:VEVENT
BEGIN:VEVENT
DTSTART;TZID=UTC:20240928T140000
DTEND;TZID=UTC:20240928T150000
DTSTAMP:20260422T110515
CREATED:20240906T032311Z
LAST-MODIFIED:20240925T182211Z
UID:10000027-1727532000-1727535600@cottageartsandeats.com
SUMMARY:Mini Maker Workshop - Make Your Halloween Pens
DESCRIPTION:Get into the spooky spirit with our Mini Makers Halloween Pen Workshop! In this fun and creative session\, kids will craft their very own Halloween-themed pens using colorful materials\, fun embellishments\, and spooky designs. Perfect for little hands\, this workshop encourages creativity and allows each child to design a pen that’s as unique as they are! Whether it’s a ghost\, pumpkin\, or monster\, they’ll have a blast making a pen they can use all season long. All supplies are provided. Registration required – call Lori at 269-512-7001.
URL:https://cottageartsandeats.com/event/mini-maker-workshop-make-your/
LOCATION:Cottage Arts & Eats\, 245 Hubbard St\, Allegan\, MI\, 49010\, United States
CATEGORIES:Events 2024
ATTACH;FMTTYPE=image/png:https://cottageartsandeats.com/wp-content/uploads/2024/09/CAE-Halloween-Pens.png
ORGANIZER;CN="Lori Hibma":MAILTO:cottageartsandeats@gmail.com
END:VEVENT
BEGIN:VEVENT
DTSTART;TZID=UTC:20240927T173000
DTEND;TZID=UTC:20240927T200000
DTSTAMP:20260422T110515
CREATED:20240906T032215Z
LAST-MODIFIED:20240924T152100Z
UID:10000026-1727458200-1727467200@cottageartsandeats.com
SUMMARY:Mixed Media Canvas Workshop
DESCRIPTION:Discover the endless possibilities of creativity in our Mixed Media Canvas Workshop! In this hands-on class\, you’ll learn how to combine various materials—like paint\, paper\, fabric\, and found objects—onto a canvas to create a one-of-a-kind artwork. Perfect for all skill levels\, our expert instructor will guide you through layering techniques\, texturing\, and how to blend different mediums for striking effects. Whether you’re an experienced artist or trying something new\, this workshop offers a fun\, expressive way to experiment and create something uniquely yours! All supplies are provided\, and registration is open until September 26.
URL:https://cottageartsandeats.com/event/mixed-media-canvas-workshop/
CATEGORIES:Events 2024
ATTACH;FMTTYPE=image/png:https://cottageartsandeats.com/wp-content/uploads/2024/09/Mixed-Media-Featured-Image.png
ORGANIZER;CN="Lori Hibma":MAILTO:cottageartsandeats@gmail.com
END:VEVENT
BEGIN:VEVENT
DTSTART;TZID=UTC:20240925T130000
DTEND;TZID=UTC:20240925T173000
DTSTAMP:20260422T110515
CREATED:20240906T032125Z
LAST-MODIFIED:20240924T150026Z
UID:10000025-1727269200-1727285400@cottageartsandeats.com
SUMMARY:Open Studio
DESCRIPTION:
URL:https://cottageartsandeats.com/event/open-studio/
CATEGORIES:Events 2024
ORGANIZER;CN="Lori Hibma":MAILTO:cottageartsandeats@gmail.com
END:VEVENT
BEGIN:VEVENT
DTSTART;TZID=UTC:20240924T180000
DTEND;TZID=UTC:20240924T203000
DTSTAMP:20260422T110515
CREATED:20240906T032028Z
LAST-MODIFIED:20240917T001901Z
UID:10000024-1727200800-1727209800@cottageartsandeats.com
SUMMARY:Zentangle Class  - Black Tiles  Workshop
DESCRIPTION:
URL:https://cottageartsandeats.com/event/zentangle-class-black-tiles-workshop/
CATEGORIES:Events 2024
ORGANIZER;CN="Lori Hibma":MAILTO:cottageartsandeats@gmail.com
END:VEVENT
BEGIN:VEVENT
DTSTART;TZID=UTC:20240921T110000
DTEND;TZID=UTC:20240921T120000
DTSTAMP:20260422T110515
CREATED:20240906T031806Z
LAST-MODIFIED:20240921T195317Z
UID:10000023-1726916400-1726920000@cottageartsandeats.com
SUMMARY:Tiny Creators  Workshop -  Playdough Trays
DESCRIPTION:
URL:https://cottageartsandeats.com/event/tiny-creators-workshop-playdough-trays/
CATEGORIES:Events 2024
ATTACH;FMTTYPE=image/jpeg:https://cottageartsandeats.com/wp-content/uploads/2024/09/IMG_2790-scaled-e1726951003462.jpeg
ORGANIZER;CN="Lori Hibma":MAILTO:cottageartsandeats@gmail.com
END:VEVENT
BEGIN:VEVENT
DTSTART;TZID=UTC:20240920T173000
DTEND;TZID=UTC:20240920T203000
DTSTAMP:20260422T110515
CREATED:20241008T184312Z
LAST-MODIFIED:20241008T184312Z
UID:10000072-1726853400-1726864200@cottageartsandeats.com
SUMMARY:Mosaic Workshop
DESCRIPTION:
URL:https://cottageartsandeats.com/event/mosaic-workshop/
CATEGORIES:Events 2024
ATTACH;FMTTYPE=image/webp:https://cottageartsandeats.com/wp-content/uploads/2024/09/i-4.webp
ORGANIZER;CN="Lori Hibma":MAILTO:cottageartsandeats@gmail.com
END:VEVENT
BEGIN:VEVENT
DTSTART;TZID=UTC:20240919T173000
DTEND;TZID=UTC:20240919T203000
DTSTAMP:20260422T110515
CREATED:20241008T212052Z
LAST-MODIFIED:20241008T212052Z
UID:10000073-1726767000-1726777800@cottageartsandeats.com
SUMMARY:All Wreath Workshop
DESCRIPTION:
URL:https://cottageartsandeats.com/event/all-wreath-workshop/
CATEGORIES:Events 2024
ATTACH;FMTTYPE=image/webp:https://cottageartsandeats.com/wp-content/uploads/2024/09/i-4.webp
ORGANIZER;CN="Lori Hibma":MAILTO:cottageartsandeats@gmail.com
END:VEVENT
BEGIN:VEVENT
DTSTART;TZID=UTC:20240918T130000
DTEND;TZID=UTC:20240918T173000
DTSTAMP:20260422T110515
CREATED:20240906T030041Z
LAST-MODIFIED:20240911T010851Z
UID:10000021-1726664400-1726680600@cottageartsandeats.com
SUMMARY:Open Studio Workshop
DESCRIPTION:
URL:https://cottageartsandeats.com/event/open-studio-workshop-2/
CATEGORIES:Events 2024
ATTACH;FMTTYPE=image/webp:https://cottageartsandeats.com/wp-content/uploads/2024/09/i-4.webp
ORGANIZER;CN="Lori Hibma":MAILTO:cottageartsandeats@gmail.com
END:VEVENT
BEGIN:VEVENT
DTSTART;TZID=UTC:20240915T133000
DTEND;TZID=UTC:20240915T153000
DTSTAMP:20260422T110515
CREATED:20240906T025941Z
LAST-MODIFIED:20240911T010912Z
UID:10000020-1726407000-1726414200@cottageartsandeats.com
SUMMARY:Zentangle  Apprentice  Workshop - Ages  11+
DESCRIPTION:
URL:https://cottageartsandeats.com/event/zentangle-apprentice-workshop-ages-11/
CATEGORIES:Events 2024
ATTACH;FMTTYPE=image/webp:https://cottageartsandeats.com/wp-content/uploads/2024/09/i-4.webp
ORGANIZER;CN="Lori Hibma":MAILTO:cottageartsandeats@gmail.com
END:VEVENT
BEGIN:VEVENT
DTSTART;TZID=UTC:20240914T130000
DTEND;TZID=UTC:20240914T143000
DTSTAMP:20260422T110515
CREATED:20240906T025830Z
LAST-MODIFIED:20240911T010925Z
UID:10000019-1726318800-1726324200@cottageartsandeats.com
SUMMARY:Mini Makers Age  5yr - 10yr - Modge Podge  Candle Holders  Workshop
DESCRIPTION:
URL:https://cottageartsandeats.com/event/mini-makers-age-5yr-10yr-modge-podge-candle-holders-workshop/
CATEGORIES:Events 2024
ATTACH;FMTTYPE=image/webp:https://cottageartsandeats.com/wp-content/uploads/2024/09/i-4.webp
ORGANIZER;CN="Lori Hibma":MAILTO:cottageartsandeats@gmail.com
END:VEVENT
END:VCALENDAR