BEGIN:VCALENDAR
VERSION:2.0
PRODID:-//Cottage Arts &amp; Eats - ECPv6.8.3//NONSGML v1.0//EN
CALSCALE:GREGORIAN
METHOD:PUBLISH
X-ORIGINAL-URL:https://cottageartsandeats.com
X-WR-CALDESC:Events for Cottage Arts &amp; Eats
REFRESH-INTERVAL;VALUE=DURATION:PT1H
X-Robots-Tag:noindex
X-PUBLISHED-TTL:PT1H
BEGIN:VTIMEZONE
TZID:America/Detroit
BEGIN:DAYLIGHT
TZOFFSETFROM:-0500
TZOFFSETTO:-0400
TZNAME:EDT
DTSTART:20250309T070000
END:DAYLIGHT
BEGIN:STANDARD
TZOFFSETFROM:-0400
TZOFFSETTO:-0500
TZNAME:EST
DTSTART:20251102T060000
END:STANDARD
END:VTIMEZONE
BEGIN:VEVENT
DTSTART;TZID=America/Detroit:20250912T170000
DTEND;TZID=America/Detroit:20250912T190000
DTSTAMP:20260424T104605
CREATED:20250822T204535Z
LAST-MODIFIED:20250911T003548Z
UID:10000381-1757696400-1757703600@cottageartsandeats.com
SUMMARY:Fused Glass Leaves
DESCRIPTION:A Fused Glass Fall Workshop \nGet ready to fall in love with fused glass! In this fun\, hands-on class\, you’ll design your very own glass leaf creations—perfect for welcoming the cozy vibes of autumn. Whether you’re dreaming up crisp maple reds or golden aspen yellows\, you’ll learn the basics of glass fusing while creating a piece that captures the magic of leaves turning. No experience needed—just bring your creativity and a love for all things fall! \nWe will fire your glass piece and it will be ready for pick-up a week later. You end up with a one-of-a-kind glass leaf piece\, perfect for decorating your space or giving as a seasonal gift. \nLet’s make something unbe-leaf-able together!
URL:https://cottageartsandeats.com/event/fused-glass-leaves/
LOCATION:Cottage Arts & Eats\, 245 Hubbard St\, Allegan\, MI\, 49010\, United States
CATEGORIES:Events 2025
ATTACH;FMTTYPE=image/png:https://cottageartsandeats.com/wp-content/uploads/2025/08/Untitled-design-18.png
ORGANIZER;CN="Lori Hibma":MAILTO:cottageartsandeats@gmail.com
END:VEVENT
END:VCALENDAR