BEGIN:VCALENDAR
VERSION:2.0
PRODID:-//Cottage Arts &amp; Eats - ECPv6.8.3//NONSGML v1.0//EN
CALSCALE:GREGORIAN
METHOD:PUBLISH
X-ORIGINAL-URL:https://cottageartsandeats.com
X-WR-CALDESC:Events for Cottage Arts &amp; Eats
REFRESH-INTERVAL;VALUE=DURATION:PT1H
X-Robots-Tag:noindex
X-PUBLISHED-TTL:PT1H
BEGIN:VTIMEZONE
TZID:America/Detroit
BEGIN:DAYLIGHT
TZOFFSETFROM:-0500
TZOFFSETTO:-0400
TZNAME:EDT
DTSTART:20250309T070000
END:DAYLIGHT
BEGIN:STANDARD
TZOFFSETFROM:-0400
TZOFFSETTO:-0500
TZNAME:EST
DTSTART:20251102T060000
END:STANDARD
END:VTIMEZONE
BEGIN:VEVENT
DTSTART;VALUE=DATE:20251018
DTEND;VALUE=DATE:20251020
DTSTAMP:20260424T104231
CREATED:20250912T184008Z
LAST-MODIFIED:20251014T162809Z
UID:10000388-1760745600-1760918399@cottageartsandeats.com
SUMMARY:Glass Ornament Bar
DESCRIPTION:Glass Ornament Bar  \nGet into the holiday spirit with our festive Glass Ornament Bar! 🎄 Drop in and design your own one-of-a-kind glass ornament—perfect for decorating your tree or giving as a handmade gift. \nWe’ll provide clear glass ornaments along with plenty of creative inspiration. Whether you go classic and elegant or colorful and fun\, you’ll make a sparkling keepsake that’s uniquely yours. Great for all ages—no experience needed! \nSpace is limited to 8 people at a time\, each ornament will take about 20 min to complete. Ornaments are $15/each \nMust be 10+ yrs old to participate in the ornament bar.
URL:https://cottageartsandeats.com/event/glass-ornament-bar/
LOCATION:Cottage Arts & Eats\, 245 Hubbard St\, Allegan\, MI\, 49010\, United States
CATEGORIES:Events 2025
ORGANIZER;CN="Lori Hibma":MAILTO:cottageartsandeats@gmail.com
END:VEVENT
END:VCALENDAR