BEGIN:VCALENDAR
VERSION:2.0
PRODID:-//Cottage Arts &amp; Eats - ECPv6.8.3//NONSGML v1.0//EN
CALSCALE:GREGORIAN
METHOD:PUBLISH
X-ORIGINAL-URL:https://cottageartsandeats.com
X-WR-CALDESC:Events for Cottage Arts &amp; Eats
REFRESH-INTERVAL;VALUE=DURATION:PT1H
X-Robots-Tag:noindex
X-PUBLISHED-TTL:PT1H
BEGIN:VTIMEZONE
TZID:America/Detroit
BEGIN:DAYLIGHT
TZOFFSETFROM:-0500
TZOFFSETTO:-0400
TZNAME:EDT
DTSTART:20250309T070000
END:DAYLIGHT
BEGIN:STANDARD
TZOFFSETFROM:-0400
TZOFFSETTO:-0500
TZNAME:EST
DTSTART:20251102T060000
END:STANDARD
END:VTIMEZONE
BEGIN:VEVENT
DTSTART;TZID=America/Detroit:20251114T170000
DTEND;TZID=America/Detroit:20251114T190000
DTSTAMP:20260424T091218
CREATED:20251014T174308Z
LAST-MODIFIED:20251014T174704Z
UID:10000399-1763139600-1763146800@cottageartsandeats.com
SUMMARY:Fused Glass Class\, Tea-lights and Ornaments
DESCRIPTION:Do you love our candle scents? Combine a 4 oz candle with fused glass and what do you get? A beautiful fall or Christmas decoration. Celebrate the beauty of season with a hands-on fused glass art class! \nOr maybe you want to create some special gifts like one of a kind Christmas Ornaments? \nIn this fun and creative workshop\, you’ll design your own colorful glass candle holder. Using a variety of glass pieces\, textures\, and colors\, you’ll learn how to layer and arrange your design before it’s kiln-fired into a stunning keepsake. \nWhether you’re a beginner or an experienced maker\, you’ll leave with a beautiful glass leaf that captures the magic of the season—perfect for display or gifting. Come play with color\, sparkle\, and fall inspiration! \nThis class includes a 4 oz candle of your choice if you choose the tea-lights and three ornaments if you choose to do ornaments.
URL:https://cottageartsandeats.com/event/fused-glass-class-tea-lights-and-ornaments/
LOCATION:Cottage Arts & Eats\, 245 Hubbard St\, Allegan\, MI\, 49010\, United States
CATEGORIES:Events 2025
END:VEVENT
END:VCALENDAR