BEGIN:VCALENDAR
VERSION:2.0
PRODID:-//Cottage Arts &amp; Eats - ECPv6.8.3//NONSGML v1.0//EN
CALSCALE:GREGORIAN
METHOD:PUBLISH
X-ORIGINAL-URL:https://cottageartsandeats.com
X-WR-CALDESC:Events for Cottage Arts &amp; Eats
REFRESH-INTERVAL;VALUE=DURATION:PT1H
X-Robots-Tag:noindex
X-PUBLISHED-TTL:PT1H
BEGIN:VTIMEZONE
TZID:America/Detroit
BEGIN:DAYLIGHT
TZOFFSETFROM:-0500
TZOFFSETTO:-0400
TZNAME:EDT
DTSTART:20250309T070000
END:DAYLIGHT
BEGIN:STANDARD
TZOFFSETFROM:-0400
TZOFFSETTO:-0500
TZNAME:EST
DTSTART:20251102T060000
END:STANDARD
END:VTIMEZONE
BEGIN:VEVENT
DTSTART;TZID=America/Detroit:20250308T110000
DTEND;TZID=America/Detroit:20250308T130000
DTSTAMP:20260425T095557
CREATED:20250129T210851Z
LAST-MODIFIED:20250130T211959Z
UID:10000274-1741431600-1741438800@cottageartsandeats.com
SUMMARY:Tiny Creators Workshop
DESCRIPTION:Spark your child’s imagination and love for creativity with our Tiny Creators Workshops! These hands-on sessions are designed to inspire young artists through engaging\, age-appropriate art and craft projects. Each workshop is packed with fun\, exploration\, and skill-building as kids work on unique creations tailored to their age group. \nFrom painting and crafting to sensory play and imaginative designs\, every project encourages self-expression and builds confidence in a nurturing environment. Perfect for little hands and big imaginations\, these workshops are the ultimate blend of fun and learning. \nAll materials are provided\, so your child can dive right into the creative adventure. Let’s make\, explore\, and create something amazing! \nThese workshops are open twice a month on Saturdays from 11am-1pm. \nOur Tiny Creators are ages 2yrs – 4yrs. Cost is $20/mo. \n  \n 
URL:https://cottageartsandeats.com/event/tiny-creators-workshop-3/
LOCATION:Cottage Arts & Eats\, 245 Hubbard St\, Allegan\, MI\, 49010\, United States
CATEGORIES:Events 2025
ATTACH;FMTTYPE=image/png:https://cottageartsandeats.com/wp-content/uploads/2024/12/Heading-1-e1737396277459.png
ORGANIZER;CN="Lori Hibma":MAILTO:cottageartsandeats@gmail.com
END:VEVENT
BEGIN:VEVENT
DTSTART;TZID=America/Detroit:20250308T110000
DTEND;TZID=America/Detroit:20250308T140000
DTSTAMP:20260425T095557
CREATED:20250129T201040Z
LAST-MODIFIED:20250130T211911Z
UID:10000270-1741431600-1741442400@cottageartsandeats.com
SUMMARY:Mini Maker Workshop
DESCRIPTION:Spark your child’s imagination and love for creativity with our Mini Maker Workshops! These hands-on sessions are designed to inspire young artists through engaging\, age-appropriate art and craft projects. Each workshop is packed with fun\, exploration\, and skill-building as kids work on unique creations tailored to their age group. \nFrom painting and crafting to sensory play and imaginative designs\, every project encourages self-expression and builds confidence in a nurturing environment. Perfect for little hands and big imaginations\, these workshops are the ultimate blend of fun and learning. \nAll materials are provided\, so your child can dive right into the creative adventure. Let’s make\, explore\, and create something amazing! \nThese workshops are open twice a month on Saturdays from 11am-1pm. \nOur Mini Makers are ages 5yrs – 9yrs. Cost is $25/mo.
URL:https://cottageartsandeats.com/event/mini-maker-workshop-4/
LOCATION:Cottage Arts & Eats\, 245 Hubbard St\, Allegan\, MI\, 49010\, United States
ATTACH;FMTTYPE=image/png:https://cottageartsandeats.com/wp-content/uploads/2024/12/Heading-e1736446678130.png
ORGANIZER;CN="Lori Hibma":MAILTO:cottageartsandeats@gmail.com
END:VEVENT
BEGIN:VEVENT
DTSTART;TZID=America/Detroit:20250322T110000
DTEND;TZID=America/Detroit:20250322T130000
DTSTAMP:20260425T095557
CREATED:20250123T191753Z
LAST-MODIFIED:20250221T170246Z
UID:10000264-1742641200-1742648400@cottageartsandeats.com
SUMMARY:Mini Makers Workshop
DESCRIPTION:Spark your child’s imagination and love for creativity with our Mini Maker Workshops! These hands-on sessions are designed to inspire young artists through engaging\, age-appropriate art and craft projects. Each workshop is packed with fun\, exploration\, and skill-building as kids work on unique creations tailored to their age group. \nFrom painting and crafting to sensory play and imaginative designs\, every project encourages self-expression and builds confidence in a nurturing environment. Perfect for little hands and big imaginations\, these workshops are the ultimate blend of fun and learning. \nAll materials are provided\, so your child can dive right into the creative adventure. Let’s make\, explore\, and create something amazing! \nThese workshops are open twice a month on Saturdays from 11am-1pm. \nOur Mini Makers are ages 5yrs – 9yrs. Cost is $25/mo.
URL:https://cottageartsandeats.com/event/mini-maker-workshop/
LOCATION:Cottage Arts & Eats\, 245 Hubbard St\, Allegan\, MI\, 49010\, United States
ATTACH;FMTTYPE=image/png:https://cottageartsandeats.com/wp-content/uploads/2024/12/Heading-e1736446678130.png
ORGANIZER;CN="Lori Hibma":MAILTO:cottageartsandeats@gmail.com
END:VEVENT
BEGIN:VEVENT
DTSTART;TZID=America/Detroit:20250322T110000
DTEND;TZID=America/Detroit:20250322T130000
DTSTAMP:20260425T095557
CREATED:20250129T210950Z
LAST-MODIFIED:20250129T210950Z
UID:10000275-1742641200-1742648400@cottageartsandeats.com
SUMMARY:Tiny Creators Workshop
DESCRIPTION:Spark your child’s imagination and love for creativity with our Tiny Creators Workshops! These hands-on sessions are designed to inspire young artists through engaging\, age-appropriate art and craft projects. Each workshop is packed with fun\, exploration\, and skill-building as kids work on unique creations tailored to their age group. \nFrom painting and crafting to sensory play and imaginative designs\, every project encourages self-expression and builds confidence in a nurturing environment. Perfect for little hands and big imaginations\, these workshops are the ultimate blend of fun and learning. \nAll materials are provided\, so your child can dive right into the creative adventure. Let’s make\, explore\, and create something amazing! \nThese workshops are open twice a month on Saturdays from 11am-1pm. \nOur Tiny Creators are ages 2yrs – 4yrs. Cost is $20/mo. \n  \n 
URL:https://cottageartsandeats.com/event/tiny-creators-workshop-4/
LOCATION:Cottage Arts & Eats\, 245 Hubbard St\, Allegan\, MI\, 49010\, United States
CATEGORIES:Events 2025
ATTACH;FMTTYPE=image/png:https://cottageartsandeats.com/wp-content/uploads/2024/12/Heading-1-e1737396277459.png
ORGANIZER;CN="Lori Hibma":MAILTO:cottageartsandeats@gmail.com
END:VEVENT
END:VCALENDAR