BEGIN:VCALENDAR
VERSION:2.0
PRODID:-//Cottage Arts &amp; Eats - ECPv6.8.3//NONSGML v1.0//EN
CALSCALE:GREGORIAN
METHOD:PUBLISH
X-WR-CALNAME:Cottage Arts &amp; Eats
X-ORIGINAL-URL:https://cottageartsandeats.com
X-WR-CALDESC:Events for Cottage Arts &amp; Eats
REFRESH-INTERVAL;VALUE=DURATION:PT1H
X-Robots-Tag:noindex
X-PUBLISHED-TTL:PT1H
BEGIN:VTIMEZONE
TZID:America/Detroit
BEGIN:DAYLIGHT
TZOFFSETFROM:-0500
TZOFFSETTO:-0400
TZNAME:EDT
DTSTART:20250309T070000
END:DAYLIGHT
BEGIN:STANDARD
TZOFFSETFROM:-0400
TZOFFSETTO:-0500
TZNAME:EST
DTSTART:20251102T060000
END:STANDARD
END:VTIMEZONE
BEGIN:VEVENT
DTSTART;TZID=America/Detroit:20250405T110000
DTEND;TZID=America/Detroit:20250405T130000
DTSTAMP:20260425T082644
CREATED:20250220T171038Z
LAST-MODIFIED:20250220T171038Z
UID:10000278-1743850800-1743858000@cottageartsandeats.com
SUMMARY:Tiny Creators Workshop
DESCRIPTION:Spark your child’s imagination and love for creativity with our Tiny Creators Workshops! These hands-on sessions are designed to inspire young artists through engaging\, age-appropriate art and craft projects. Each workshop is packed with fun\, exploration\, and skill-building as kids work on unique creations tailored to their age group. \nFrom painting and crafting to sensory play and imaginative designs\, every project encourages self-expression and builds confidence in a nurturing environment. Perfect for little hands and big imaginations\, these workshops are the ultimate blend of fun and learning. \nAll materials are provided\, so your child can dive right into the creative adventure. Let’s make\, explore\, and create something amazing! \nThese workshops are open twice a month on Saturdays from 11am-1pm. \nOur Tiny Creators are ages 2yrs – 4yrs. Cost is $20/mo.
URL:https://cottageartsandeats.com/event/tiny-creators-workshop-5/
LOCATION:Cottage Arts & Eats\, 245 Hubbard St\, Allegan\, MI\, 49010\, United States
ATTACH;FMTTYPE=image/webp:https://cottageartsandeats.com/wp-content/uploads/2025/01/minie-maker-e1737659733291.webp
ORGANIZER;CN="Lori Hibma":MAILTO:cottageartsandeats@gmail.com
END:VEVENT
BEGIN:VEVENT
DTSTART;TZID=America/Detroit:20250407T140000
DTEND;TZID=America/Detroit:20250407T160000
DTSTAMP:20260425T082644
CREATED:20250220T174544Z
LAST-MODIFIED:20250330T195314Z
UID:10000279-1744034400-1744041600@cottageartsandeats.com
SUMMARY:Glow in the Dark Sun Catchers - Spring Fling Art Camp Classes
DESCRIPTION:Get ready to paint\, shine\, and sparkle this Spring Break!  Kids can unleash their creativity by designing their very own glow in the dark  sun catchers\, bringing a splash of color and a touch of magic to any window. \nWith fun designs\, bright paints\, and endless imagination\, this hands-on activity is the perfect way to celebrate the sunshine! Whether they choose bold patterns or dreamy pastels\, their masterpiece will catch the light and spread joy all season long. \nLet’s make\, create\, and celebrate—because Spring Break is brighter with art! \n\n\n\n\n\n\n\n  \n\n 
URL:https://cottageartsandeats.com/event/painted-glass-sun-catchers/
LOCATION:Cottage Arts & Eats\, 245 Hubbard St\, Allegan\, MI\, 49010\, United States
ATTACH;FMTTYPE=image/png:https://cottageartsandeats.com/wp-content/uploads/2025/02/Screenshot-2025-03-18-at-3.03.17 PM.png
ORGANIZER;CN="Lori Hibma":MAILTO:cottageartsandeats@gmail.com
END:VEVENT
BEGIN:VEVENT
DTSTART;TZID=America/Detroit:20250408T140000
DTEND;TZID=America/Detroit:20250408T160000
DTSTAMP:20260425T082644
CREATED:20250220T175659Z
LAST-MODIFIED:20250330T195504Z
UID:10000280-1744120800-1744128000@cottageartsandeats.com
SUMMARY:Build A Birdhouse - Spring Fling Art Camp Classes
DESCRIPTION:Let creativity take flight this Spring Break! Kids will have a blast in our Build & Decorate Birdhouse art class\, where they’ll assemble their very own cozy little birdhouse—perfect for our feathered friends! Using easy-to-build wooden pieces and loads of fun decorations\, they’ll turn a simple birdhouse into a colorful masterpiece. \nFrom bright paints to playful patterns\, glitter\, and stickers\, the sky’s the limit! Once finished\, they can take their creation home to hang in the garden or backyard\, making a perfect springtime retreat for the birds. \nIt’s hands-on\, messy\, and full of tweet-tastic fun—so grab a paintbrush and let’s get building! \n\n\n\n\n\n\nAges: 5yrs – 9yrs
URL:https://cottageartsandeats.com/event/build-a-birdhouse-spring-fling-art-camp-classes/
LOCATION:Cottage Arts & Eats\, 245 Hubbard St\, Allegan\, MI\, 49010\, United States
ATTACH;FMTTYPE=image/png:https://cottageartsandeats.com/wp-content/uploads/2025/02/Build-a-Bird-House.png
ORGANIZER;CN="Lori Hibma":MAILTO:cottageartsandeats@gmail.com
END:VEVENT
BEGIN:VEVENT
DTSTART;TZID=America/Detroit:20250409T140000
DTEND;TZID=America/Detroit:20250409T160000
DTSTAMP:20260425T082644
CREATED:20250220T182908Z
LAST-MODIFIED:20250330T195550Z
UID:10000281-1744207200-1744214400@cottageartsandeats.com
SUMMARY:Tie-Dye Butterflies - Kids Spring Fling Art Camp Classes
DESCRIPTION:Let’s get creative and watch colors fly this Spring Break!  In this super fun\, hands-on class\, kids will design their own tie-dye butterflies using coffee filters\, markers\, and a splash of water. With every swirl and blend\, they’ll see their butterflies transform into bright\, one-of-a-kind masterpieces! \nEasy to make and fun to decorate\, these colorful critters are the perfect way to celebrate spring.  From bold rainbows to soft pastel blends\, every butterfly will be as unique as the artist who creates it! \nCome join the colorful flutter of fun and let creativity take flight! \nAges: 5yrs – 9yrs
URL:https://cottageartsandeats.com/event/tie-dye-butterflies-kids-spring-fling-art-camp-class/
LOCATION:Cottage Arts & Eats\, 245 Hubbard St\, Allegan\, MI\, 49010\, United States
ATTACH;FMTTYPE=image/webp:https://cottageartsandeats.com/wp-content/uploads/2025/02/DALL·E-2025-02-20-13.25.00-A-collection-of-colorful-tie-dye-butterflies-made-from-coffee-filters-displayed-in-a-cheerful-spring-themed-setting.-The-butterflies-feature-vibrant-e1740076065237.webp
ORGANIZER;CN="Lori Hibma":MAILTO:cottageartsandeats@gmail.com
END:VEVENT
BEGIN:VEVENT
DTSTART;TZID=America/Detroit:20250410T140000
DTEND;TZID=America/Detroit:20250410T160000
DTSTAMP:20260425T082644
CREATED:20250220T200909Z
LAST-MODIFIED:20250330T195719Z
UID:10000282-1744293600-1744300800@cottageartsandeats.com
SUMMARY:Sand Art - Kids Spring Fling Art Camp Classes
DESCRIPTION:Get ready to shake\, pour\, and create in this colorful Spring Break Sand Art Class!  Kids will have a blast layering vibrant sand into bottles\, jars\, and fun-shaped containers\, designing their own one-of-a-kind masterpieces! Whether they go for bold rainbow swirls or soft pastel blends\, every creation is a work of art! \nWith endless color combinations and tons of creativity\, this hands-on activity is perfect for little artists who love to mix\, match\, and make something magical. Plus\, they get to take home their dazzling sand art as a keepsake of all the fun! \nCome join the colorful adventure—because Spring Break should be bright\, bold\, and full of creativity! \nAges: 3yrs-9years
URL:https://cottageartsandeats.com/event/sand-art-kids-spring-fling-art-camp/
LOCATION:Cottage Arts & Eats\, 245 Hubbard St\, Allegan\, MI\, 49010\, United States
ATTACH;FMTTYPE=image/png:https://cottageartsandeats.com/wp-content/uploads/2025/02/Sand-Art-Kids-Camp.png
ORGANIZER;CN="Lori Hibma":MAILTO:cottageartsandeats@gmail.com
END:VEVENT
BEGIN:VEVENT
DTSTART;TZID=America/Detroit:20250419T110000
DTEND;TZID=America/Detroit:20250419T140000
DTSTAMP:20260425T082644
CREATED:20250326T203245Z
LAST-MODIFIED:20250327T222100Z
UID:10000319-1745060400-1745071200@cottageartsandeats.com
SUMMARY:Private Party - Jessica Swindell
DESCRIPTION:Daughter’s Bday Party
URL:https://cottageartsandeats.com/event/private-party-jessica-swindell/
LOCATION:Cottage Arts & Eats\, 245 Hubbard St\, Allegan\, MI\, 49010\, United States
ORGANIZER;CN="Lori Hibma":MAILTO:cottageartsandeats@gmail.com
END:VEVENT
BEGIN:VEVENT
DTSTART;TZID=America/Detroit:20250426T110000
DTEND;TZID=America/Detroit:20250426T130000
DTSTAMP:20260425T082644
CREATED:20250221T190251Z
LAST-MODIFIED:20250221T190251Z
UID:10000286-1745665200-1745672400@cottageartsandeats.com
SUMMARY:Tiny Creators Workshop
DESCRIPTION:Spark your child’s imagination and love for creativity with our Tiny Creators Workshops! These hands-on sessions are designed to inspire young artists through engaging\, age-appropriate art and craft projects. Each workshop is packed with fun\, exploration\, and skill-building as kids work on unique creations tailored to their age group. \nFrom painting and crafting to sensory play and imaginative designs\, every project encourages self-expression and builds confidence in a nurturing environment. Perfect for little hands and big imaginations\, these workshops are the ultimate blend of fun and learning. \nAll materials are provided\, so your child can dive right into the creative adventure. Let’s make\, explore\, and create something amazing! \nThese workshops are open twice a month on Saturdays from 11am-1pm. \nOur Tiny Creators are ages 2yrs – 4yrs. Cost is $20/mo.
URL:https://cottageartsandeats.com/event/tiny-creators-workshop-6/
LOCATION:Cottage Arts & Eats\, 245 Hubbard St\, Allegan\, MI\, 49010\, United States
ATTACH;FMTTYPE=image/png:https://cottageartsandeats.com/wp-content/uploads/2024/12/Heading-1-e1737396277459.png
ORGANIZER;CN="Lori Hibma":MAILTO:cottageartsandeats@gmail.com
END:VEVENT
END:VCALENDAR