BEGIN:VCALENDAR
VERSION:2.0
PRODID:-//Cottage Arts &amp; Eats - ECPv6.8.3//NONSGML v1.0//EN
CALSCALE:GREGORIAN
METHOD:PUBLISH
X-WR-CALNAME:Cottage Arts &amp; Eats
X-ORIGINAL-URL:https://cottageartsandeats.com
X-WR-CALDESC:Events for Cottage Arts &amp; Eats
REFRESH-INTERVAL;VALUE=DURATION:PT1H
X-Robots-Tag:noindex
X-PUBLISHED-TTL:PT1H
BEGIN:VTIMEZONE
TZID:America/Detroit
BEGIN:DAYLIGHT
TZOFFSETFROM:-0500
TZOFFSETTO:-0400
TZNAME:EDT
DTSTART:20250309T070000
END:DAYLIGHT
BEGIN:STANDARD
TZOFFSETFROM:-0400
TZOFFSETTO:-0500
TZNAME:EST
DTSTART:20251102T060000
END:STANDARD
END:VTIMEZONE
BEGIN:VEVENT
DTSTART;TZID=America/Detroit:20250503T110000
DTEND;TZID=America/Detroit:20250503T130000
DTSTAMP:20260423T052644
CREATED:20250306T220144Z
LAST-MODIFIED:20250306T220608Z
UID:10000299-1746270000-1746277200@cottageartsandeats.com
SUMMARY:Tiny Creators Workshop
DESCRIPTION:Spark your child’s imagination and love for creativity with our Tiny Creators Workshops! These hands-on sessions are designed to inspire young artists through engaging\, age-appropriate art and craft projects. Each workshop is packed with fun\, exploration\, and skill-building as kids work on unique creations tailored to their age group. \nFrom painting and crafting to sensory play and imaginative designs\, every project encourages self-expression and builds confidence in a nurturing environment. Perfect for little hands and big imaginations\, these workshops are the ultimate blend of fun and learning. \nAll materials are provided\, so your child can dive right into the creative adventure. Let’s make\, explore\, and create something amazing! \nThese workshops are open twice a month on Saturdays from 11am-1pm. \nOur Tiny Creators are ages 2yrs – 4yrs. Cost is $20/mo.
URL:https://cottageartsandeats.com/event/tiny-creators-workshop-7/
LOCATION:Cottage Arts & Eats\, 245 Hubbard St\, Allegan\, MI\, 49010\, United States
ATTACH;FMTTYPE=image/webp:https://cottageartsandeats.com/wp-content/uploads/2025/03/tiny-creators-workshop.webp
ORGANIZER;CN="Lori Hibma":MAILTO:cottageartsandeats@gmail.com
END:VEVENT
BEGIN:VEVENT
DTSTART;TZID=America/Detroit:20250517T110000
DTEND;TZID=America/Detroit:20250517T130000
DTSTAMP:20260423T052644
CREATED:20250306T232016Z
LAST-MODIFIED:20250306T233145Z
UID:10000305-1747479600-1747486800@cottageartsandeats.com
SUMMARY:Mini Makers Workshop - Bird Feeders
DESCRIPTION:Spark your child’s imagination and love for creativity with our Mini Maker Workshops! These hands-on sessions are designed to inspire young artists through engaging\, age-appropriate art and craft projects. Each workshop is packed with fun\, exploration\, and skill-building as kids work on unique creations tailored to their age group. \n\n\n\n\nKids will explore colors\, patterns\, and artistic techniques while having fun! By the end of the class\, each child will have a beautifully painted bird feeder to take home and hang in their yard. Join us for a colorful adventure in art and nature! \n\n\n\n\nAll materials are provided\, so your child can dive right into the creative adventure. Let’s make\, explore\, and create something amazing! \nThese workshops are open twice a month on Saturdays from 11am-1pm. \nOur Mini Makers are ages 5yrs – 9yrs. Cost is $25/mo
URL:https://cottageartsandeats.com/event/mini-makers-workshop-6/
LOCATION:Cottage Arts & Eats\, 245 Hubbard St\, Allegan\, MI\, 49010\, United States
ATTACH;FMTTYPE=image/webp:https://cottageartsandeats.com/wp-content/uploads/2025/03/mini-makers-workshop-pic-1-e1752783441638.webp
ORGANIZER;CN="Lori Hibma":MAILTO:cottageartsandeats@gmail.com
END:VEVENT
END:VCALENDAR