BEGIN:VCALENDAR
VERSION:2.0
PRODID:-//Cottage Arts &amp; Eats - ECPv6.8.3//NONSGML v1.0//EN
CALSCALE:GREGORIAN
METHOD:PUBLISH
X-WR-CALNAME:Cottage Arts &amp; Eats
X-ORIGINAL-URL:https://cottageartsandeats.com
X-WR-CALDESC:Events for Cottage Arts &amp; Eats
REFRESH-INTERVAL;VALUE=DURATION:PT1H
X-Robots-Tag:noindex
X-PUBLISHED-TTL:PT1H
BEGIN:VTIMEZONE
TZID:America/Detroit
BEGIN:DAYLIGHT
TZOFFSETFROM:-0500
TZOFFSETTO:-0400
TZNAME:EDT
DTSTART:20250309T070000
END:DAYLIGHT
BEGIN:STANDARD
TZOFFSETFROM:-0400
TZOFFSETTO:-0500
TZNAME:EST
DTSTART:20251102T060000
END:STANDARD
END:VTIMEZONE
BEGIN:VEVENT
DTSTART;TZID=America/Detroit:20250607T110000
DTEND;TZID=America/Detroit:20250607T130000
DTSTAMP:20260423T023133
CREATED:20250307T173023Z
LAST-MODIFIED:20250307T173023Z
UID:10000315-1749294000-1749301200@cottageartsandeats.com
SUMMARY:Mini Makers Workshop - Tie Dye
DESCRIPTION:Spark your child’s imagination and love for creativity with our Mini Maker Workshops! These hands-on sessions are designed to inspire young artists through engaging\, age-appropriate art and craft projects. Each workshop is packed with fun\, exploration\, and skill-building as kids work on unique creations tailored to their age group. \nFrom painting and crafting to sensory play and imaginative designs\, every project encourages self-expression and builds confidence in a nurturing environment. Perfect for little hands and big imaginations\, these workshops are the ultimate blend of fun and learning. \nAll materials are provided\, so your child can dive right into the creative adventure. Let’s make\, explore\, and create something amazing! \nThese workshops are open twice a month on Saturdays from 11am-1pm. \nOur Mini Makers are ages 5yrs – 9yrs. Cost is $25/mo.
URL:https://cottageartsandeats.com/event/mini-makers-workshop-tie-dye/
LOCATION:Cottage Arts & Eats\, 245 Hubbard St\, Allegan\, MI\, 49010\, United States
ATTACH;FMTTYPE=image/webp:https://cottageartsandeats.com/wp-content/uploads/2025/03/mini-makers-workshop-pic-1-e1752783441638.webp
ORGANIZER;CN="Lori Hibma":MAILTO:cottageartsandeats@gmail.com
END:VEVENT
BEGIN:VEVENT
DTSTART;TZID=America/Detroit:20250621T110000
DTEND;TZID=America/Detroit:20250621T130000
DTSTAMP:20260423T023133
CREATED:20250307T173750Z
LAST-MODIFIED:20250307T173750Z
UID:10000316-1750503600-1750510800@cottageartsandeats.com
SUMMARY:Mini Makers Workshop - Pressed Flowers
DESCRIPTION:Class for Kids! This hands-on\, creative workshop is the perfect way to introduce children to the magic of flower pressing while making their own stunning artwork. All materials are provided\, so your child can dive right into the creative adventure. Let’s make\, explore\, and create something amazing! \nWhat’s in Bloom? \n\nLearn how to press and preserve flowers in a fun\, kid-friendly way.\nCreate beautiful art pieces using real flowers\, leaves\, and colorful backgrounds.\nExperiment with different designs—make bookmarks\, cards\, or framed masterpieces!\nEngage in a sensory experience with nature’s colors\, textures\, and scents.\n\n  \nThese workshops are open twice a month on Saturdays from 11am-1pm. \nOur Mini Makers are ages 5yrs – 9yrs. Cost is $25/mo.
URL:https://cottageartsandeats.com/event/mini-makers-workshop-pressed-flowers/
LOCATION:Cottage Arts & Eats\, 245 Hubbard St\, Allegan\, MI\, 49010\, United States
ATTACH;FMTTYPE=image/webp:https://cottageartsandeats.com/wp-content/uploads/2025/03/mini-makers-workshop-pic-e1741298166523.webp
ORGANIZER;CN="Lori Hibma":MAILTO:cottageartsandeats@gmail.com
END:VEVENT
END:VCALENDAR