BEGIN:VCALENDAR
VERSION:2.0
PRODID:-//Cottage Arts &amp; Eats - ECPv6.8.3//NONSGML v1.0//EN
CALSCALE:GREGORIAN
METHOD:PUBLISH
X-WR-CALNAME:Cottage Arts &amp; Eats
X-ORIGINAL-URL:https://cottageartsandeats.com
X-WR-CALDESC:Events for Cottage Arts &amp; Eats
REFRESH-INTERVAL;VALUE=DURATION:PT1H
X-Robots-Tag:noindex
X-PUBLISHED-TTL:PT1H
BEGIN:VTIMEZONE
TZID:America/Detroit
BEGIN:DAYLIGHT
TZOFFSETFROM:-0500
TZOFFSETTO:-0400
TZNAME:EDT
DTSTART:20250309T070000
END:DAYLIGHT
BEGIN:STANDARD
TZOFFSETFROM:-0400
TZOFFSETTO:-0500
TZNAME:EST
DTSTART:20251102T060000
END:STANDARD
END:VTIMEZONE
BEGIN:VEVENT
DTSTART;TZID=America/Detroit:20250906T110000
DTEND;TZID=America/Detroit:20250906T130000
DTSTAMP:20260422T182452
CREATED:20250822T203600Z
LAST-MODIFIED:20250823T171436Z
UID:10000379-1757156400-1757163600@cottageartsandeats.com
SUMMARY:Mini Makers Workshops
DESCRIPTION:Spark your child’s imagination and love for creativity with our Mini Maker Workshops! These hands-on sessions are designed to inspire young artists through engaging\, age-appropriate art and craft projects. Each workshop is packed with fun\, exploration\, and skill-building as kids work on unique creations tailored to their age group. \nFrom painting and crafting to sensory play and imaginative designs\, every project encourages self-expression and builds confidence in a nurturing environment. Perfect for little hands and big imaginations\, these workshops are the ultimate blend of fun and learning. \nAll materials are provided\, so your child can dive right into the creative adventure. Let’s make\, explore\, and create something amazing! \nThese workshops are open twice a month on Saturdays from 11am-1pm. \nOur Mini Makers are ages 5yrs – 9yrs. Cost is $25/mo.
URL:https://cottageartsandeats.com/event/mini-makers-workshops/
LOCATION:Cottage Arts & Eats\, 245 Hubbard St\, Allegan\, MI\, 49010\, United States
CATEGORIES:Events 2025
ATTACH;FMTTYPE=image/webp:https://cottageartsandeats.com/wp-content/uploads/2025/03/mini-makers-workshop-pic-1-e1752783441638.webp
ORGANIZER;CN="Lori Hibma":MAILTO:cottageartsandeats@gmail.com
END:VEVENT
BEGIN:VEVENT
DTSTART;TZID=America/Detroit:20250920T110000
DTEND;TZID=America/Detroit:20250920T130000
DTSTAMP:20260422T182452
CREATED:20250822T211638Z
LAST-MODIFIED:20250822T211638Z
UID:10000384-1758366000-1758373200@cottageartsandeats.com
SUMMARY:Mini Makers Workshop
DESCRIPTION:Spark your child’s imagination and love for creativity with our Mini Maker Workshops! These hands-on sessions are designed to inspire young artists through engaging\, age-appropriate art and craft projects. Each workshop is packed with fun\, exploration\, and skill-building as kids work on unique creations tailored to their age group. \nFrom painting and crafting to sensory play and imaginative designs\, every project encourages self-expression and builds confidence in a nurturing environment. Perfect for little hands and big imaginations\, these workshops are the ultimate blend of fun and learning. \nAll materials are provided\, so your child can dive right into the creative adventure. Let’s make\, explore\, and create something amazing! \nThese workshops are open twice a month on Saturdays from 11am-1pm. \nOur Mini Makers are ages 5yrs – 9yrs. Cost is $25/mo.
URL:https://cottageartsandeats.com/event/mini-makers-workshop-7/
LOCATION:Cottage Arts & Eats\, 245 Hubbard St\, Allegan\, MI\, 49010\, United States
CATEGORIES:Events 2025
ORGANIZER;CN="Lori Hibma":MAILTO:cottageartsandeats@gmail.com
END:VEVENT
END:VCALENDAR