BEGIN:VCALENDAR
VERSION:2.0
PRODID:-//Cottage Arts &amp; Eats - ECPv6.8.3//NONSGML v1.0//EN
CALSCALE:GREGORIAN
METHOD:PUBLISH
X-ORIGINAL-URL:https://cottageartsandeats.com
X-WR-CALDESC:Events for Cottage Arts &amp; Eats
REFRESH-INTERVAL;VALUE=DURATION:PT1H
X-Robots-Tag:noindex
X-PUBLISHED-TTL:PT1H
BEGIN:VTIMEZONE
TZID:America/Detroit
BEGIN:DAYLIGHT
TZOFFSETFROM:-0500
TZOFFSETTO:-0400
TZNAME:EDT
DTSTART:20250309T070000
END:DAYLIGHT
BEGIN:STANDARD
TZOFFSETFROM:-0400
TZOFFSETTO:-0500
TZNAME:EST
DTSTART:20251102T060000
END:STANDARD
END:VTIMEZONE
BEGIN:VEVENT
DTSTART;TZID=America/Detroit:20251018T110000
DTEND;TZID=America/Detroit:20251018T130000
DTSTAMP:20260422T182623
CREATED:20250912T184620Z
LAST-MODIFIED:20250912T184620Z
UID:10000389-1760785200-1760792400@cottageartsandeats.com
SUMMARY:Mini Maker - Painting Tote / Trick or Treat Bags
DESCRIPTION:Paint Your Own Trick-or-Treat Bag Get ready for Halloween with a fun art class where kids design and paint their very own tote bags! Each child will have a blank canvas tote (perfect for trick-or-treating) and access to fabric-safe paints\, stencils\, and lots of colorful supplies. From spooky pumpkins to silly monsters—or any design their imagination dreams up—kids will leave with a one-of-a-kind bag that’s both creative and practical.
URL:https://cottageartsandeats.com/event/mini-maker-painting-tote-trick-or-treat-bags/
LOCATION:Cottage Arts & Eats\, 245 Hubbard St\, Allegan\, MI\, 49010\, United States
CATEGORIES:Events 2025
ATTACH;FMTTYPE=image/webp:https://cottageartsandeats.com/wp-content/uploads/2025/03/mini-makers-workshop-pic-e1741298166523.webp
ORGANIZER;CN="Lori Hibma":MAILTO:cottageartsandeats@gmail.com
END:VEVENT
END:VCALENDAR