BEGIN:VCALENDAR
VERSION:2.0
PRODID:-//Cottage Arts &amp; Eats - ECPv6.8.3//NONSGML v1.0//EN
CALSCALE:GREGORIAN
METHOD:PUBLISH
X-WR-CALNAME:Cottage Arts &amp; Eats
X-ORIGINAL-URL:https://cottageartsandeats.com
X-WR-CALDESC:Events for Cottage Arts &amp; Eats
REFRESH-INTERVAL;VALUE=DURATION:PT1H
X-Robots-Tag:noindex
X-PUBLISHED-TTL:PT1H
BEGIN:VTIMEZONE
TZID:America/Detroit
BEGIN:DAYLIGHT
TZOFFSETFROM:-0500
TZOFFSETTO:-0400
TZNAME:EDT
DTSTART:20250309T070000
END:DAYLIGHT
BEGIN:STANDARD
TZOFFSETFROM:-0400
TZOFFSETTO:-0500
TZNAME:EST
DTSTART:20251102T060000
END:STANDARD
END:VTIMEZONE
BEGIN:VEVENT
DTSTART;TZID=America/Detroit:20250118T140000
DTEND;TZID=America/Detroit:20250118T170000
DTSTAMP:20260425T204229
CREATED:20241219T004309Z
LAST-MODIFIED:20241228T183927Z
UID:10000089-1737208800-1737219600@cottageartsandeats.com
SUMMARY:Fluid Art Painting Experience
DESCRIPTION:Dive into the mesmerizing world of fluid art with our Fluid Art Painting Experience! This fun and dynamic class will introduce you to the exciting technique of acrylic pouring\, where no two masterpieces are ever the same. \nExplore the magic of color as you pour\, tilt\, and swirl vibrant paints onto your canvas\, creating stunning marbled patterns and striking abstract designs. With expert guidance\, you’ll learn techniques like dirty pour\, flip cup\, and swipe\, giving you the tools to craft your unique masterpiece. \nWhether you’re a first-time painter or an experienced artist\, fluid painting is a stress-free\, playful way to unleash your creativity and discover your inner artist. All materials are provided\, including canvases\, paints\, and tools—just bring your imagination! \nPrepare to get a little messy and a lot inspired as you watch your artwork transform before your eyes. At the end of the class\, you’ll leave with a one-of-a-kind piece that’s truly yours. \nJoin us for an unforgettable experience where creativity flows freely! Reserve your spot now—spaces are limited!
URL:https://cottageartsandeats.com/event/fluid-art-painting-experience/
LOCATION:Cottage Arts & Eats\, 245 Hubbard St\, Allegan\, MI\, 49010\, United States
ATTACH;FMTTYPE=image/png:https://cottageartsandeats.com/wp-content/uploads/2024/12/Untitled-design-6-e1735411132474.png
ORGANIZER;CN="Lori Hibma":MAILTO:cottageartsandeats@gmail.com
END:VEVENT
END:VCALENDAR