BEGIN:VCALENDAR
VERSION:2.0
PRODID:-//Cottage Arts &amp; Eats - ECPv6.8.3//NONSGML v1.0//EN
CALSCALE:GREGORIAN
METHOD:PUBLISH
X-WR-CALNAME:Cottage Arts &amp; Eats
X-ORIGINAL-URL:https://cottageartsandeats.com
X-WR-CALDESC:Events for Cottage Arts &amp; Eats
REFRESH-INTERVAL;VALUE=DURATION:PT1H
X-Robots-Tag:noindex
X-PUBLISHED-TTL:PT1H
BEGIN:VTIMEZONE
TZID:America/Detroit
BEGIN:DAYLIGHT
TZOFFSETFROM:-0500
TZOFFSETTO:-0400
TZNAME:EDT
DTSTART:20250309T070000
END:DAYLIGHT
BEGIN:STANDARD
TZOFFSETFROM:-0400
TZOFFSETTO:-0500
TZNAME:EST
DTSTART:20251102T060000
END:STANDARD
END:VTIMEZONE
BEGIN:VEVENT
DTSTART;TZID=America/Detroit:20250207T173000
DTEND;TZID=America/Detroit:20250207T193000
DTSTAMP:20260425T191043
CREATED:20250122T210007Z
LAST-MODIFIED:20250122T210309Z
UID:10000252-1738949400-1738956600@cottageartsandeats.com
SUMMARY:Watercolor Valentine: Hand-Painted Cards
DESCRIPTION:Watercolor Cards: Create Your Own Hand-Painted Valentine’s Cards! \nDitch the store-bought cards and make something truly special this Valentine’s Day! Join us for a fun\, creative watercolor painting class where you’ll design and paint your own one-of-a-kind Valentine’s cards—perfect for that special someone\, your best friend\, or even just for yourself! \nWhat to Expect:\nStep-by-step guidance to bring your artistic vision to life\nA variety of watercolors\, brushes\, and embellishments to play with\nCreate multiple unique Valentine’s cards—personal\, heartfelt\, and made with love\nA relaxed\, fun atmosphere filled with music\, creativity\, and good vibes \nNo experience needed—just bring your imagination and a little love! Whether you’re painting delicate florals\, dreamy hearts\, or playful abstract designs\, you’ll leave with a set of gorgeous handmade cards and maybe even a new passion for watercolor! \nGrab your friends\, bring your date\, or enjoy a solo creative escape! Let’s make this Valentine’s Day extra special—one brushstroke at a time.  Reserve your spot now!
URL:https://cottageartsandeats.com/event/watercolor-valentine-hand-painted-cards/
LOCATION:Cottage Arts & Eats\, 245 Hubbard St\, Allegan\, MI\, 49010\, United States
ATTACH;FMTTYPE=image/webp:https://cottageartsandeats.com/wp-content/uploads/2025/01/DALL·E-2025-01-22-15.58.46-A-flat-simple-yet-cute-and-colorful-hand-painted-watercolor-Valentines-Day-card-with-delicate-floral-designs.-The-card-features-a-minimalistic-heart-e1737579566863.webp
ORGANIZER;CN="Lori Hibma":MAILTO:cottageartsandeats@gmail.com
END:VEVENT
BEGIN:VEVENT
DTSTART;TZID=America/Detroit:20250213T173000
DTEND;TZID=America/Detroit:20250213T193000
DTSTAMP:20260425T191043
CREATED:20250122T204442Z
LAST-MODIFIED:20250130T185354Z
UID:10000251-1739467800-1739475000@cottageartsandeats.com
SUMMARY:Sip & Sparkle: A Galentine’s Paint Night
DESCRIPTION:Sip & Sparkle: A Galentine’s Paint Night \nCelebrate Galentine’s Day with a fun and creative Wine Bottle & Wine Glass Painting Class on February 13th! Grab your besties and enjoy an evening of painting\, laughter\, and delicious cocktails from Tantrick—included in your ticket price! \nLet’s toast to friendship\, creativity\, and a fabulous night out! Reserve your spot now! \nWhat to Expect:\nA relaxed\, social atmosphere where you can sip and paint at your own pace\nStep-by-step guidance to create a stunning\, decorative wine bottle and 2 wine glasses\nAccess to a variety of paints\, brushes\, and embellishments to make your design truly unique\nTake home a gorgeous\, up-cycled wine bottle—perfect for décor\, gifts\, or twinkle-light accents! \nGather your friends\, bring your favorite beverage\, and let’s uncork your creativity! Spots are limited\, so reserve yours today!
URL:https://cottageartsandeats.com/event/wine-bottle-painting-class/
LOCATION:Cottage Arts & Eats\, 245 Hubbard St\, Allegan\, MI\, 49010\, United States
CATEGORIES:Events 2025
ATTACH;FMTTYPE=image/webp:https://cottageartsandeats.com/wp-content/uploads/2025/01/DALL·E-2025-01-30-13.51.32-A-realistic-photograph-style-image-of-a-wine-bottle-and-a-few-wine-glasses-that-have-been-hand-painted.-The-bottle-and-glasses-feature-delicate-artis-e1738263133533.webp
ORGANIZER;CN="Lori Hibma":MAILTO:cottageartsandeats@gmail.com
END:VEVENT
BEGIN:VEVENT
DTSTART;TZID=America/Detroit:20250215T140000
DTEND;TZID=America/Detroit:20250215T160000
DTSTAMP:20260425T191043
CREATED:20250129T195346Z
LAST-MODIFIED:20250205T184947Z
UID:10000267-1739628000-1739635200@cottageartsandeats.com
SUMMARY:Fluid Art Class
DESCRIPTION:Fluid Art Workshop – Create Stunning Abstract Masterpieces!  \nDive into the mesmerizing world of fluid art in this hands-on workshop! Perfect for beginners and experienced artists alike\, this class will teach you how to create stunning\, abstract paintings using acrylic pouring techniques. No brushes needed—just let the colors flow and watch magic happen! \nWhat You’ll Learn:\nThe basics of fluid art and acrylic pouring\nHow to mix paints for the perfect consistency\nDifferent pouring techniques\, including dirty pour\, flip cup\, and swipe \nTips for creating unique patterns and vibrant color blends
URL:https://cottageartsandeats.com/event/fluid-art-class/
LOCATION:Cottage Arts & Eats\, 245 Hubbard St\, Allegan\, MI\, 49010\, United States
ATTACH;FMTTYPE=image/webp:https://cottageartsandeats.com/wp-content/uploads/2025/01/DALL·E-2025-01-29-14.52.38-A-simple-and-pretty-fluid-art-painting-with-soft-swirling-patterns-of-pastel-blues-pinks-and-purples.-The-colors-blend-seamlessly-creating-a-calmi-e1738180383395.webp
ORGANIZER;CN="Lori Hibma":MAILTO:cottageartsandeats@gmail.com
END:VEVENT
BEGIN:VEVENT
DTSTART;TZID=America/Detroit:20250221T173000
DTEND;TZID=America/Detroit:20250221T193000
DTSTAMP:20260425T191043
CREATED:20250123T175625Z
LAST-MODIFIED:20250129T175857Z
UID:10000253-1740159000-1740166200@cottageartsandeats.com
SUMMARY:Plaster Painting Class
DESCRIPTION:Plaster Painting Class: Shape\, Color\, and Create!  \nStep into the world of plaster painting\, where art meets texture\, and every piece is a unique adventure! This hands-on class is perfect for anyone who loves to experiment with color while exploring the fun and versatile medium of plaster. \nFrom intricate figurines to bold wall plaques\, you’ll work with pre-cast plaster pieces that are ready to be transformed into eye-catching masterpieces. Learn how to layer vibrant acrylics\, blend stunning color gradients\, and add exciting finishes like metallics\, antiquing\, and distressing to bring out the rich textures of plaster. \nWhether you’re looking to create a rustic farmhouse look\, a sleek modern piece\, or a whimsical work of art\, our friendly instructors will guide you through techniques that enhance plaster’s natural details and contours. Plus\, discover sealing methods to protect and preserve your artwork for years to come! \nNo experience? No problem! Just bring your enthusiasm and creativity—we’ll provide everything else. Come paint\, play\, and make something truly one-of-a-kind!
URL:https://cottageartsandeats.com/event/plaster-painting-class/
LOCATION:Cottage Arts & Eats\, 245 Hubbard St\, Allegan\, MI\, 49010\, United States
ATTACH;FMTTYPE=image/webp:https://cottageartsandeats.com/wp-content/uploads/2025/01/DALL·E-2025-01-29-12.57.48-A-simple-and-artistic-scene-of-canvas-plaster-painting.-A-textured-plaster-artwork-on-a-canvas-features-soft-abstract-patterns-in-neutral-tones.-A-pa-e1738173496551.webp
ORGANIZER;CN="Lori Hibma":MAILTO:cottageartsandeats@gmail.com
END:VEVENT
END:VCALENDAR