BEGIN:VCALENDAR
VERSION:2.0
PRODID:-//Cottage Arts &amp; Eats - ECPv6.8.3//NONSGML v1.0//EN
CALSCALE:GREGORIAN
METHOD:PUBLISH
X-ORIGINAL-URL:https://cottageartsandeats.com
X-WR-CALDESC:Events for Cottage Arts &amp; Eats
REFRESH-INTERVAL;VALUE=DURATION:PT1H
X-Robots-Tag:noindex
X-PUBLISHED-TTL:PT1H
BEGIN:VTIMEZONE
TZID:America/Detroit
BEGIN:DAYLIGHT
TZOFFSETFROM:-0500
TZOFFSETTO:-0400
TZNAME:EDT
DTSTART:20250309T070000
END:DAYLIGHT
BEGIN:STANDARD
TZOFFSETFROM:-0400
TZOFFSETTO:-0500
TZNAME:EST
DTSTART:20251102T060000
END:STANDARD
END:VTIMEZONE
BEGIN:VEVENT
DTSTART;TZID=America/Detroit:20250308T140000
DTEND;TZID=America/Detroit:20250308T160000
DTSTAMP:20260425T191355
CREATED:20250123T182431Z
LAST-MODIFIED:20250129T171620Z
UID:10000257-1741442400-1741449600@cottageartsandeats.com
SUMMARY:Water Color Painting Class
DESCRIPTION:Color\, Flow & Fun: Watercolor Painting Class \nReady to dive into a world of vibrant colors and creative flow? Come join us for a Watercolor Painting Class that’s all about fun\, exploration\, and the joy of painting with water and pigment! Whether you’ve never touched a paintbrush or you’re looking to brush up on your skills\, this class will have you painting like a pro (or at least feeling like one). \nIn this playful\, hands-on class\, we’ll introduce you to watercolor basics\, like how to create beautiful washes\, mix colors\, and control the flow of paint to achieve stunning effects. But the best part? You’ll get to experiment and find your unique style\, all while embracing the carefree\, fluid nature of watercolor. Forget about perfection—this is about having fun and letting the paint do its thing! \nBy the end\, you’ll leave with a gorgeous\, one-of-a-kind piece of art and maybe even a new obsession. So grab your brushes\, let go of the stress\, and come paint with us—no experience needed\, just a splash of creativity!
URL:https://cottageartsandeats.com/event/water-color-painting-class/
LOCATION:Cottage Arts & Eats\, 245 Hubbard St\, Allegan\, MI\, 49010\, United States
ATTACH;FMTTYPE=image/webp:https://cottageartsandeats.com/wp-content/uploads/2025/01/DALL·E-2025-01-29-12.14.44-A-simple-and-cute-watercolor-painting-featuring-soft-pastel-colors.-The-painting-includes-a-small-bouquet-of-wildflowers-in-a-glass-jar-with-delicate-e1738170939409.webp
ORGANIZER;CN="Lori Hibma":MAILTO:cottageartsandeats@gmail.com
END:VEVENT
BEGIN:VEVENT
DTSTART;TZID=America/Detroit:20250314T173000
DTEND;TZID=America/Detroit:20250314T193000
DTSTAMP:20260425T191355
CREATED:20250123T184412Z
LAST-MODIFIED:20250129T170532Z
UID:10000259-1741973400-1741980600@cottageartsandeats.com
SUMMARY:Fluid Art Coasters
DESCRIPTION:Pour\, Paint & Play: Fluid Art Coaster Class \nReady to dive into a world of color\, creativity\, and fun? Join us for a Fluid Art Coaster Class\, where we’ll teach you how to turn vibrant\, swirling paints into beautiful\, functional art! It’s the perfect way to get messy (in the best possible way) and create stunning coasters that are totally one-of-a-kind! \nIn this class\, you’ll learn the magic of fluid art—how to mix paints\, pour them\, and watch them come to life as they flow together in gorgeous patterns. We’ll guide you through the basics of different pouring techniques\, like dirty pours and swiping\, as you create mesmerizing designs that will leave everyone saying\, “You made that?!” \nNo experience needed—just bring your excitement and a bit of curiosity! You’ll leave with a set of beautiful coasters that are perfect for showing off your new skills (and keeping those drinks from leaving rings on your furniture). \nCome for the creativity\, stay for the fun\, and let’s make some colorful\, artful coasters that are as unique as you are!
URL:https://cottageartsandeats.com/event/fluid-art-coaster/
LOCATION:Cottage Arts & Eats\, 245 Hubbard St\, Allegan\, MI\, 49010\, United States
ATTACH;FMTTYPE=image/webp:https://cottageartsandeats.com/wp-content/uploads/2025/01/DALL·E-2025-01-29-12.04.13-A-set-of-four-fluid-art-coasters-with-vibrant-swirling-patterns-of-blue-purple-and-gold.-Each-coaster-has-a-glossy-resin-finish-highlighting-the-in-e1738170295598.webp
ORGANIZER;CN="Lori Hibma":MAILTO:cottageartsandeats@gmail.com
END:VEVENT
BEGIN:VEVENT
DTSTART;TZID=America/Detroit:20250328T173000
DTEND;TZID=America/Detroit:20250328T193000
DTSTAMP:20260425T191355
CREATED:20250123T191145Z
LAST-MODIFIED:20250224T182927Z
UID:10000263-1743183000-1743190200@cottageartsandeats.com
SUMMARY:Flower Pot Painting Class
DESCRIPTION:Paint Your Pot: Creative Flower Pot Decorating Class \nReady to add a little color to your life—and your plants? Whether you’re a garden enthusiast or just love a little DIY fun\, this class is your chance to get creative\, paint your heart out\, and give your plants a stylish new home. \nIn this hands-on class\, you’ll learn easy\, fun techniques to paint your own personalized flower pots. From floral patterns to funky geometric designs\, we’ll guide you through a variety of ideas and approaches to make your pots pop with personality. You’ll explore different paints\, stencils\, and decorative touches to create pots that perfectly match your vibe—whether you’re going for boho chic\, minimalist elegance\, or a burst of colorful fun! \nNo experience needed—just bring your creativity and a love for all things artsy! By the end of the class\, you’ll have a set of beautifully painted flower pots ready to show off in your home or garden. (And maybe even gift a few to your favorite plant-loving friends!) \nGrab your brushes\, let’s get colorful\, and make your plants bloom in style!
URL:https://cottageartsandeats.com/event/flower-pot-painting-class/
LOCATION:Cottage Arts & Eats\, 245 Hubbard St\, Allegan\, MI\, 49010\, United States
ATTACH;FMTTYPE=image/png:https://cottageartsandeats.com/wp-content/uploads/2025/01/Join-us-for-a-Flower-Pot-Painting-Class-where-well-show-you-how-to-transform-basic-flower-pots-into-vibrant-works-of-art.png
ORGANIZER;CN="Lori Hibma":MAILTO:cottageartsandeats@gmail.com
END:VEVENT
END:VCALENDAR