BEGIN:VCALENDAR
VERSION:2.0
PRODID:-//Cottage Arts &amp; Eats - ECPv6.8.3//NONSGML v1.0//EN
CALSCALE:GREGORIAN
METHOD:PUBLISH
X-WR-CALNAME:Cottage Arts &amp; Eats
X-ORIGINAL-URL:https://cottageartsandeats.com
X-WR-CALDESC:Events for Cottage Arts &amp; Eats
REFRESH-INTERVAL;VALUE=DURATION:PT1H
X-Robots-Tag:noindex
X-PUBLISHED-TTL:PT1H
BEGIN:VTIMEZONE
TZID:America/Detroit
BEGIN:DAYLIGHT
TZOFFSETFROM:-0500
TZOFFSETTO:-0400
TZNAME:EDT
DTSTART:20250309T070000
END:DAYLIGHT
BEGIN:STANDARD
TZOFFSETFROM:-0400
TZOFFSETTO:-0500
TZNAME:EST
DTSTART:20251102T060000
END:STANDARD
END:VTIMEZONE
BEGIN:VEVENT
DTSTART;TZID=America/Detroit:20250404T173000
DTEND;TZID=America/Detroit:20250404T193000
DTSTAMP:20260425T143141
CREATED:20250221T191328Z
LAST-MODIFIED:20250403T161407Z
UID:10000287-1743787800-1743795000@cottageartsandeats.com
SUMMARY:Watercolor Class
DESCRIPTION:Dive into the world of watercolor painting in this fun and relaxing class! Whether you’re a beginner or a seasoned artist\, you’ll explore the magic of flowing colors\, blending techniques\, and brushwork to create stunning\, dreamy masterpieces. \nFrom vibrant landscapes to delicate florals\, you’ll learn step-by-step how to bring your imagination to life on paper. Let the colors flow\, experiment with textures\, and discover the joy of painting with watercolors in a friendly and inspiring atmosphere. \nCome splash\, swirl\, and create—one brushstroke at a time!
URL:https://cottageartsandeats.com/event/watercolor-class/
LOCATION:Cottage Arts & Eats\, 245 Hubbard St\, Allegan\, MI\, 49010\, United States
ATTACH;FMTTYPE=image/png:https://cottageartsandeats.com/wp-content/uploads/2025/02/Untitled-design-10.png
ORGANIZER;CN="Lori Hibma":MAILTO:cottageartsandeats@gmail.com
END:VEVENT
BEGIN:VEVENT
DTSTART;TZID=America/Detroit:20250405T110000
DTEND;TZID=America/Detroit:20250405T130000
DTSTAMP:20260425T143141
CREATED:20250220T170649Z
LAST-MODIFIED:20250220T171351Z
UID:10000277-1743850800-1743858000@cottageartsandeats.com
SUMMARY:Mini Makers Workshop
DESCRIPTION:Spark your child’s imagination and love for creativity with our Mini Maker Workshops! These hands-on sessions are designed to inspire young artists through engaging\, age-appropriate art and craft projects. Each workshop is packed with fun\, exploration\, and skill-building as kids work on unique creations tailored to their age group. \nFrom painting and crafting to sensory play and imaginative designs\, every project encourages self-expression and builds confidence in a nurturing environment. Perfect for little hands and big imaginations\, these workshops are the ultimate blend of fun and learning. \nAll materials are provided\, so your child can dive right into the creative adventure. Let’s make\, explore\, and create something amazing! \nThese workshops are open twice a month on Saturdays from 11am-1pm. \nOur Mini Makers are ages 5yrs – 9yrs. Cost is $25/mo.
URL:https://cottageartsandeats.com/event/mini-makers-workshop-3/
LOCATION:Cottage Arts & Eats\, 245 Hubbard St\, Allegan\, MI\, 49010\, United States
ATTACH;FMTTYPE=image/png:https://cottageartsandeats.com/wp-content/uploads/2024/12/Heading-e1736446678130.png
ORGANIZER;CN="Lori Hibma":MAILTO:cottageartsandeats@gmail.com
END:VEVENT
BEGIN:VEVENT
DTSTART;TZID=America/Detroit:20250411T173000
DTEND;TZID=America/Detroit:20250411T193000
DTSTAMP:20260425T143141
CREATED:20250221T192929Z
LAST-MODIFIED:20250406T173915Z
UID:10000289-1744392600-1744399800@cottageartsandeats.com
SUMMARY:Paint Your Date Night
DESCRIPTION:Paint Your Date Night – Love & Creativity on Canvas! \nDitch the ordinary dinner date and grab a paintbrush instead! Paint Your Date Night is the perfect blend of creativity\, laughter\, and romance. Whether you’re a seasoned artist or just here for the fun\, you and your special someone will create a masterpiece together—no experience needed! \nEnjoy step-by-step guidance from our fun-loving instructor while sipping on your favorite drinks (BYOB!). Laugh\, paint\, and maybe even get a little messy—it’s all part of the fun! At the end of the night\, you’ll walk away with a beautiful keepsake and even better memories. \nPhotos of your date must be submitted 1 week prior to the class so we can prepare for your painting.
URL:https://cottageartsandeats.com/event/paint-your-date-night/
LOCATION:Cottage Arts & Eats\, 245 Hubbard St\, Allegan\, MI\, 49010\, United States
ATTACH;FMTTYPE=image/jpeg:https://cottageartsandeats.com/wp-content/uploads/2024/08/7xm.xyz596337.jpg
ORGANIZER;CN="Lori Hibma":MAILTO:cottageartsandeats@gmail.com
END:VEVENT
BEGIN:VEVENT
DTSTART;TZID=America/Detroit:20250412T110000
DTEND;TZID=America/Detroit:20250412T120000
DTSTAMP:20260425T143141
CREATED:20250222T212559Z
LAST-MODIFIED:20250318T193018Z
UID:10000293-1744455600-1744459200@cottageartsandeats.com
SUMMARY:15th Annual Art in Garden -  Artist Market
DESCRIPTION:Cottage Arts & Eats will be teaching a Watercolor Class at the 15th Annual Art in the Garden Artist Market!  \nJoin Cottage Arts & Eats for a delightful watercolor painting class at the 15th Annual Art in the Garden Artists Market!  Immerse yourself in the beauty of nature while learning the art of watercolor in a fun\, relaxed setting. Whether you’re a beginner or a seasoned artist\, our expert instructor will guide you step by step in creating a stunning masterpiece inspired by the garden’s vibrant surroundings. \nDon’t miss this opportunity to paint\, unwind\, and enjoy a creative experience at this beloved annual event! \nSign-up on with the Allegan Area Arts Council
URL:https://cottageartsandeats.com/event/15th-annual-art-in-garden-artists-market-garden/
LOCATION:Grill House\, 1071 32nd St M-40 South\, Allegan\, MI\, 49010\, United States
ATTACH;FMTTYPE=image/png:https://cottageartsandeats.com/wp-content/uploads/2025/02/Screenshot-2025-03-18-at-3.27.53 PM-e1742326176590.png
END:VEVENT
END:VCALENDAR