BEGIN:VCALENDAR
VERSION:2.0
PRODID:-//Cottage Arts &amp; Eats - ECPv6.8.3//NONSGML v1.0//EN
CALSCALE:GREGORIAN
METHOD:PUBLISH
X-WR-CALNAME:Cottage Arts &amp; Eats
X-ORIGINAL-URL:https://cottageartsandeats.com
X-WR-CALDESC:Events for Cottage Arts &amp; Eats
REFRESH-INTERVAL;VALUE=DURATION:PT1H
X-Robots-Tag:noindex
X-PUBLISHED-TTL:PT1H
BEGIN:VTIMEZONE
TZID:America/Detroit
BEGIN:DAYLIGHT
TZOFFSETFROM:-0500
TZOFFSETTO:-0400
TZNAME:EDT
DTSTART:20250309T070000
END:DAYLIGHT
BEGIN:STANDARD
TZOFFSETFROM:-0400
TZOFFSETTO:-0500
TZNAME:EST
DTSTART:20251102T060000
END:STANDARD
END:VTIMEZONE
BEGIN:VEVENT
DTSTART;TZID=America/Detroit:20250412T110000
DTEND;TZID=America/Detroit:20250412T120000
DTSTAMP:20260425T143352
CREATED:20250222T212559Z
LAST-MODIFIED:20250318T193018Z
UID:10000293-1744455600-1744459200@cottageartsandeats.com
SUMMARY:15th Annual Art in Garden -  Artist Market
DESCRIPTION:Cottage Arts & Eats will be teaching a Watercolor Class at the 15th Annual Art in the Garden Artist Market!  \nJoin Cottage Arts & Eats for a delightful watercolor painting class at the 15th Annual Art in the Garden Artists Market!  Immerse yourself in the beauty of nature while learning the art of watercolor in a fun\, relaxed setting. Whether you’re a beginner or a seasoned artist\, our expert instructor will guide you step by step in creating a stunning masterpiece inspired by the garden’s vibrant surroundings. \nDon’t miss this opportunity to paint\, unwind\, and enjoy a creative experience at this beloved annual event! \nSign-up on with the Allegan Area Arts Council
URL:https://cottageartsandeats.com/event/15th-annual-art-in-garden-artists-market-garden/
LOCATION:Grill House\, 1071 32nd St M-40 South\, Allegan\, MI\, 49010\, United States
ATTACH;FMTTYPE=image/png:https://cottageartsandeats.com/wp-content/uploads/2025/02/Screenshot-2025-03-18-at-3.27.53 PM-e1742326176590.png
END:VEVENT
END:VCALENDAR