BEGIN:VCALENDAR
VERSION:2.0
PRODID:-//Cottage Arts &amp; Eats - ECPv6.8.3//NONSGML v1.0//EN
CALSCALE:GREGORIAN
METHOD:PUBLISH
X-WR-CALNAME:Cottage Arts &amp; Eats
X-ORIGINAL-URL:https://cottageartsandeats.com
X-WR-CALDESC:Events for Cottage Arts &amp; Eats
REFRESH-INTERVAL;VALUE=DURATION:PT1H
X-Robots-Tag:noindex
X-PUBLISHED-TTL:PT1H
BEGIN:VTIMEZONE
TZID:America/Detroit
BEGIN:DAYLIGHT
TZOFFSETFROM:-0500
TZOFFSETTO:-0400
TZNAME:EDT
DTSTART:20250309T070000
END:DAYLIGHT
BEGIN:STANDARD
TZOFFSETFROM:-0400
TZOFFSETTO:-0500
TZNAME:EST
DTSTART:20251102T060000
END:STANDARD
END:VTIMEZONE
BEGIN:VEVENT
DTSTART;TZID=America/Detroit:20250502T170000
DTEND;TZID=America/Detroit:20250502T190000
DTSTAMP:20260425T111636
CREATED:20250306T194321Z
LAST-MODIFIED:20250306T194321Z
UID:10000297-1746205200-1746212400@cottageartsandeats.com
SUMMARY:Painting Tiger Lillies Class
DESCRIPTION:Welcome to Painting Tiger Lilies!  \nGet ready to bring the fiery beauty of tiger lilies to life on canvas! In this class\, we’ll explore how to capture their bold colors\, delicate curves\, and striking patterns. Whether you’re a beginner or a seasoned artist\, we’ll use fun techniques to make your flowers pop with energy and vibrancy. Grab your brushes\, mix up some rich oranges and yellows\, and let’s create some blooming masterpieces together! \n\n\n\n\n\n\n \n\n \n4o
URL:https://cottageartsandeats.com/event/painting-tiger-lillies-class/
LOCATION:Cottage Arts & Eats\, 245 Hubbard St\, Allegan\, MI\, 49010\, United States
ATTACH;FMTTYPE=image/webp:https://cottageartsandeats.com/wp-content/uploads/2025/03/DALL·E-2025-03-06-14.42.30-A-beautiful-painting-of-tiger-lilies-in-a-vibrant-and-expressive-style.-The-painting-features-bold-orange-petals-with-dark-speckles-green-stems-and--e1741290180479.webp
ORGANIZER;CN="Lori Hibma":MAILTO:cottageartsandeats@gmail.com
END:VEVENT
END:VCALENDAR