BEGIN:VCALENDAR
VERSION:2.0
PRODID:-//Cottage Arts &amp; Eats - ECPv6.8.3//NONSGML v1.0//EN
CALSCALE:GREGORIAN
METHOD:PUBLISH
X-ORIGINAL-URL:https://cottageartsandeats.com
X-WR-CALDESC:Events for Cottage Arts &amp; Eats
REFRESH-INTERVAL;VALUE=DURATION:PT1H
X-Robots-Tag:noindex
X-PUBLISHED-TTL:PT1H
BEGIN:VTIMEZONE
TZID:America/Detroit
BEGIN:DAYLIGHT
TZOFFSETFROM:-0500
TZOFFSETTO:-0400
TZNAME:EDT
DTSTART:20250309T070000
END:DAYLIGHT
BEGIN:STANDARD
TZOFFSETFROM:-0400
TZOFFSETTO:-0500
TZNAME:EST
DTSTART:20251102T060000
END:STANDARD
END:VTIMEZONE
BEGIN:VEVENT
DTSTART;TZID=America/Detroit:20250709T170000
DTEND;TZID=America/Detroit:20250709T190000
DTSTAMP:20260424T010315
CREATED:20250628T193940Z
LAST-MODIFIED:20250822T213853Z
UID:10000352-1752080400-1752087600@cottageartsandeats.com
SUMMARY:Beginner Zentangle
DESCRIPTION:Looking for a creative way to unwind and express yourself? Join us for an Intro to Zentangle® Art Class\, where you’ll dive into the world of simple\, yet stunning\, pattern-based art! Zentangle® is all about creating beautiful designs one stroke at a time—no experience necessary\, just a love for creativity! \nIn this class\, we’ll teach you the basics of Zentangle®\, including how to draw easy\, repetitive patterns called “tangles” that come together to create intricate\, mesmerizing artwork. You’ll discover how this method can help you relax\, focus\, and tap into your artistic side—whether you think you have one or not! \nWith step-by-step guidance\, you’ll create your own unique design and leave feeling accomplished\, zen\, and ready to explore more. Plus\, it’s super fun! No stress\, no pressure—just a chance to create and enjoy the process. Perfect for beginners or anyone looking to try something new and relaxing. \nCome join us and unlock your inner artist—one pattern at a time!
URL:https://cottageartsandeats.com/event/beginner-zentangle/
LOCATION:MI
CATEGORIES:Events 2025
END:VEVENT
BEGIN:VEVENT
DTSTART;TZID=America/Detroit:20250723T170000
DTEND;TZID=America/Detroit:20250723T190000
DTSTAMP:20260424T010315
CREATED:20250702T181726Z
LAST-MODIFIED:20250702T182122Z
UID:10000358-1753290000-1753297200@cottageartsandeats.com
SUMMARY:Zentangle - Beyond the Basics with Watercolor
DESCRIPTION:Ready to take your Zentangle skills to the next level? Join us for Zentangle: Beyond the Basics\, a class designed for those who already have a foundation in Zentangle and are ready to expand their practice with new techniques and creative twists. \nIn this session\, we’ll combine the meditative art of Zentangle with the vibrant beauty of watercolor to create one-of-a-kind bookmarks. You’ll explore new tangle patterns\, shading techniques\, and how to incorporate color to add depth\, dimension\, and personal flair to your work. This class is perfect for anyone who wants to grow their Zentangle repertoire while creating functional mini-masterpieces. \nAll supplies are provided\, and no pressure—just a relaxed\, inspiring space to tangle\, color\, and connect.
URL:https://cottageartsandeats.com/event/zentangle-beyond-the-basics-with-watercolor/
LOCATION:Cottage Arts & Eats\, 245 Hubbard St\, Allegan\, MI\, 49010\, United States
CATEGORIES:Events 2025
ATTACH;FMTTYPE=image/png:https://cottageartsandeats.com/wp-content/uploads/2025/07/Untitled-500-x-500-px.png
ORGANIZER;CN="Lori Hibma":MAILTO:cottageartsandeats@gmail.com
END:VEVENT
END:VCALENDAR