BEGIN:VCALENDAR
VERSION:2.0
PRODID:-//Cottage Arts &amp; Eats - ECPv6.8.3//NONSGML v1.0//EN
CALSCALE:GREGORIAN
METHOD:PUBLISH
X-WR-CALNAME:Cottage Arts &amp; Eats
X-ORIGINAL-URL:https://cottageartsandeats.com
X-WR-CALDESC:Events for Cottage Arts &amp; Eats
REFRESH-INTERVAL;VALUE=DURATION:PT1H
X-Robots-Tag:noindex
X-PUBLISHED-TTL:PT1H
BEGIN:VTIMEZONE
TZID:America/Detroit
BEGIN:DAYLIGHT
TZOFFSETFROM:-0500
TZOFFSETTO:-0400
TZNAME:EDT
DTSTART:20250309T070000
END:DAYLIGHT
BEGIN:STANDARD
TZOFFSETFROM:-0400
TZOFFSETTO:-0500
TZNAME:EST
DTSTART:20251102T060000
END:STANDARD
END:VTIMEZONE
BEGIN:VEVENT
DTSTART;TZID=America/Detroit:20250919T170000
DTEND;TZID=America/Detroit:20250919T190000
DTSTAMP:20260423T221821
CREATED:20250822T211317Z
LAST-MODIFIED:20250822T211317Z
UID:10000383-1758301200-1758308400@cottageartsandeats.com
SUMMARY:Intermediate Zentangle Class
DESCRIPTION:Ready to take your Zentangle journey to the next level? This intermediate class is perfect for those who are familiar with the basics and eager to expand their skills\, explore new patterns\, and deepen their creative practice. \nWe’ll dive into more complex tangles\, shading techniques\, and creative string compositions\, all while maintaining the relaxing\, meditative flow that makes Zentangle so special. You’ll also explore how to add dimension\, contrast\, and personal flair to your work—transforming simple patterns into striking pieces of art. \nBring your pens\, tiles\, and imagination—let’s tangle outside the lines!
URL:https://cottageartsandeats.com/event/intermediate-zentangle-class/
LOCATION:Cottage Arts & Eats\, 245 Hubbard St\, Allegan\, MI\, 49010\, United States
CATEGORIES:Events 2025
ORGANIZER;CN="Lori Hibma":MAILTO:cottageartsandeats@gmail.com
END:VEVENT
END:VCALENDAR