BEGIN:VCALENDAR
VERSION:2.0
PRODID:-//Cottage Arts &amp; Eats - ECPv6.8.3//NONSGML v1.0//EN
CALSCALE:GREGORIAN
METHOD:PUBLISH
X-ORIGINAL-URL:https://cottageartsandeats.com
X-WR-CALDESC:Events for Cottage Arts &amp; Eats
REFRESH-INTERVAL;VALUE=DURATION:PT1H
X-Robots-Tag:noindex
X-PUBLISHED-TTL:PT1H
BEGIN:VTIMEZONE
TZID:America/Detroit
BEGIN:DAYLIGHT
TZOFFSETFROM:-0500
TZOFFSETTO:-0400
TZNAME:EDT
DTSTART:20260308T070000
END:DAYLIGHT
BEGIN:STANDARD
TZOFFSETFROM:-0400
TZOFFSETTO:-0500
TZNAME:EST
DTSTART:20261101T060000
END:STANDARD
END:VTIMEZONE
BEGIN:VEVENT
DTSTART;TZID=America/Detroit:20260314T140000
DTEND;TZID=America/Detroit:20260314T160000
DTSTAMP:20260423T081838
CREATED:20251228T181446Z
LAST-MODIFIED:20251228T181446Z
UID:10000410-1773496800-1773504000@cottageartsandeats.com
SUMMARY:Art Of Allegan Glass Garden Stake Workshop
DESCRIPTION:Add a touch of color and creativity to your garden in this hands-on Glass Garden Stake workshop! During this class\, you’ll design and create your own one-of-a-kind fused glass garden stake that’s perfect for flower beds\, potted plants\, or vegetable gardens. \nChoose from a variety of provided design ideas or let your creativity shine by making a completely custom piece. You’ll learn the basics of working with glass\, including cutting\, layering\, and design techniques. Once completed\, your glass piece will be kiln-fired to bring out vibrant colors and a beautiful finish. \nNo prior glass experience is needed—this class is beginner-friendly and guided step-by-step in a relaxed\, creative atmosphere. \nWhat’s Included: \n\n\nAll glass materials and supplies \n\n\nUse of tools and safety equipment \n\n\nKiln firing of your finished piece \n\n\nMetal garden stake for display \n\n\nYour finished glass garden stake will be ready for pickup after firing and will be a stunning addition to your outdoor space—or a thoughtful handmade gift. \nCreate something beautiful and lasting while enjoying the Art of Allegan experience!
URL:https://cottageartsandeats.com/event/art-of-allegan-glass-garden-stake-workshop-2/
LOCATION:Griswold in Allegan Michigan\, 401 Hubbard St.\, Allegan\, MI\, 49010\, United States
END:VEVENT
BEGIN:VEVENT
DTSTART;TZID=America/Detroit:20260314T100000
DTEND;TZID=America/Detroit:20260314T120000
DTSTAMP:20260423T081838
CREATED:20251228T181303Z
LAST-MODIFIED:20251228T181303Z
UID:10000409-1773482400-1773489600@cottageartsandeats.com
SUMMARY:Art Of Allegan Glass Garden Stake Workshop
DESCRIPTION:Add a touch of color and creativity to your garden in this hands-on Glass Garden Stake workshop! During this class\, you’ll design and create your own one-of-a-kind fused glass garden stake that’s perfect for flower beds\, potted plants\, or vegetable gardens. \nChoose from a variety of provided design ideas or let your creativity shine by making a completely custom piece. You’ll learn the basics of working with glass\, including cutting\, layering\, and design techniques. Once completed\, your glass piece will be kiln-fired to bring out vibrant colors and a beautiful finish. \nNo prior glass experience is needed—this class is beginner-friendly and guided step-by-step in a relaxed\, creative atmosphere. \nWhat’s Included: \n\n\nAll glass materials and supplies \n\n\nUse of tools and safety equipment \n\n\nKiln firing of your finished piece \n\n\nMetal garden stake for display \n\n\nYour finished glass garden stake will be ready for pickup after firing and will be a stunning addition to your outdoor space—or a thoughtful handmade gift. \nCreate something beautiful and lasting while enjoying the Art of Allegan experience!
URL:https://cottageartsandeats.com/event/art-of-allegan-glass-garden-stake-workshop/
LOCATION:Griswold in Allegan Michigan\, 401 Hubbard St.\, Allegan\, MI\, 49010\, United States
END:VEVENT
END:VCALENDAR